BEGIN:VCALENDAR
VERSION:2.0
PRODID:-//wp-events-plugin.com//7.2.2.1//EN
BEGIN:VEVENT
UID:85@nestart.by
DTSTART:20211204T100000Z
DTEND:20211204T140000Z
DTSTAMP:20250606T120558Z
URL:https://nestart.by/events2/%D0%B2%D0%B5%D0%BD%D0%BE%D0%BA-%D0%B8%D0%B7
 -%D0%BF%D0%B0%D1%80%D0%B0%D1%84%D0%B8%D0%BD%D0%B0-1/
SUMMARY:04.12.2021_Венок из парафина
DESCRIPTION:Парафин - материал\, с которым можн
 о создавать невероятной красоты работы! 
 Попробуйте сделать это под руководством
  нашего опытного мастера.
ATTACH;FMTTYPE=image/jpeg:https://nestart.by/wp-content/uploads/2020/11/Б
 АННЕР-парафин.png
CATEGORIES:мастер-класс,флористика
LOCATION:#_LOCATIONNAME\, #_LOCATIONFULLLINE\, #_LOCATIONCOUNTRY
X-APPLE-STRUCTURED-LOCATION;VALUE=URI;X-ADDRESS=#_LOCATIONFULLLINE\, #_LOCA
 TIONCOUNTRY;X-APPLE-RADIUS=100;X-TITLE=#_LOCATIONNAME:geo:0,0
END:VEVENT
END:VCALENDAR