BEGIN:VCALENDAR
VERSION:2.0
PRODID:-//wp-events-plugin.com//7.2.2.1//EN
BEGIN:VEVENT
UID:167@nestart.by
DTSTART:20241214T120000Z
DTEND:20241214T143000Z
DTSTAMP:20250613T075342Z
URL:https://nestart.by/events2/14-12-2024_cristmas-wreath_parentschild/
SUMMARY:14.12.2024_Рождественский венок для роди
 телей с детьми
DESCRIPTION:Создайте новогоднее настроение в 
 своем доме!
ATTACH;FMTTYPE=image/jpeg:https://nestart.by/wp-content/uploads/2023/12/Р
 ожд_венок_роддети_мест_нет.jpg
CATEGORIES:мастер-класс,флористика
LOCATION:#_LOCATIONNAME\, #_LOCATIONFULLLINE\, #_LOCATIONCOUNTRY
X-APPLE-STRUCTURED-LOCATION;VALUE=URI;X-ADDRESS=#_LOCATIONFULLLINE\, #_LOCA
 TIONCOUNTRY;X-APPLE-RADIUS=100;X-TITLE=#_LOCATIONNAME:geo:0,0
END:VEVENT
END:VCALENDAR