BEGIN:VCALENDAR
VERSION:2.0
PRODID:-//wp-events-plugin.com//7.2.2.1//EN
BEGIN:VEVENT
UID:163@nestart.by
DTSTART:20240731T170000Z
DTEND:20240731T200000Z
DTSTAMP:20250606T122510Z
URL:https://nestart.by/events2/aromadiagnostica/
SUMMARY:Сеанс аромадиагностики
DESCRIPTION:\n\n	Если не понимаете головой\, почу
 вствуете носом!\nОбонятельная система оп
 ределяет нашу жизнедеятельность. Мы выб
 ираем носом все: от еды до партнеров. Нос 
 не обманет\, нос расскажет вам про себя т
 о\, о чем вы даже не догадывались.\nПочему 
 мы используем эфирные масла?\nДело в том\,
  что натуральные эфирные масла имеют оче
 нь богатую биохимию: одна капля может со
 держать до 500 химических соединений и до 
 4000 биологически активных компонентов.\nБ
 иохимия эфирных масел моментально оказы
 вает влияние на нашу физиологию\, психик
 у и эмоции.\nНейроны головного мозга напр
 ямую связаны с обонянием. Вдыхая молекул
 ы эфирных масел\, мы воздействием на гипо
 таламус\, сигнал анализируется\, и органи
 зм моментально даёт оклик в зависимости 
 от запроса на данную биохимию: нравится\,
  не нравится\, равнодушен.\nИменно поэтом
 у один и тот же аромат может вызывать про
 тивоположную реакцию у разных людей.\n\n\n\
 n	На этом практическом занятии участники
  смогут:\n▫️узнать\, какой аромат решает 
 ваш запрос\n▫️вытащить глубинные психо
 эмоциональные задачи через реакцию на а
 ромат\;\n▫️понять\, какие негативные убе
 ждения мешают вам развиваться\;\n▫️найт
 и ключ к реализации ваших целей\;\n▫️выя
 вить физиологические и соматические про
 блемы организма\;\n▫️понять причины ваш
 их недомоганий и проблем\;\n\n\n	Как проход
 ит сеанс:\nкаждый участник прослушивает 
 ароматы от 30 до 50 эфирных масел и в специ
 альном бланке фиксируют свои ощущения п
 о определенной шкале\;\nзатем составляет 
 из понравившихся ароматов свои персонал
 ьные духи из масел\;\nСама практика имеет 
 мощный терапевтический эффект\, так как 
 организм в процессе тестирования получа
 ет богатую натуральную биохимию эфирных
  масел.\n По окончании каждого участника 
 ждут: \nсвои персональные ресурсные духи 
 из масел\, получивших максимальное приня
 тие. Это будет настоящий эликсир здоровь
 я\, благополучия и энергии!\nанализ и расш
 ифровка данных ароматеста\n&nbsp\;\nПродолж
 ительность: 2 часа\nКоличество участнико
 в: до 7 человек\nВ практике используются т
 олько 100% натуральные терапевтические эф
 ирные масла\n\n\n\n	Сеанс проводит: \nЛера Не
 роли\nПсихолог\, аромапрактик\, предприни
 матель\, многодетная мама.\nВ ароматерапи
 ю пришла узнав о терапевтических свойст
 вах ароматов\, и увидев как это работает. 
 \n"Знакомство с эфирными маслами превзош
 ли все ожидания\, помимо решениях задач с
 емьи на уровне здоровья\, я получила мощн
 ое воздействие на психоэмоциональное со
 стояние и внутренние трансформации"\n&nbsp\
 ;\n\n\n\n	\n\n\n\n	Дата: октябрь 2024г (среда)\nВрем
 я встречи: 17.00\nстоимость: 85 руб\nКОЛИЧЕСТ
 ВО ЧЕЛОВЕК В ГРУППЕ ОГРАНИЧЕНО!\nПри резе
 рвировании места в группе  вносится ава
 нс 10 руб.\n&nbsp\;\n&nbsp\;\n\n\n\n\n	В ДАННОЙ ГРУППЕ 
 ОСТАЛОСЬ 2 МЕСТА\n\n\n\n
ATTACH;FMTTYPE=image/jpeg:https://nestart.by/wp-content/uploads/2024/09/ar
 omadiagnostica.jpg
LOCATION:#_LOCATIONNAME\, #_LOCATIONFULLLINE\, #_LOCATIONCOUNTRY
X-APPLE-STRUCTURED-LOCATION;VALUE=URI;X-ADDRESS=#_LOCATIONFULLLINE\, #_LOCA
 TIONCOUNTRY;X-APPLE-RADIUS=100;X-TITLE=#_LOCATIONNAME:geo:0,0
END:VEVENT
END:VCALENDAR