BEGIN:VCALENDAR
VERSION:2.0
PRODID:-//wp-events-plugin.com//7.2.2.1//EN
BEGIN:VEVENT
UID:166@nestart.by
DTSTART:20241122T180000Z
DTEND:20241122T203000Z
DTSTAMP:20250606T122532Z
URL:https://nestart.by/events2/art-therapy_mandala/
SUMMARY:Сеанс АРТ-ТЕРАПИИ. Мандала: мой ресур
 с здесь и сейчас.
DESCRIPTION:\n\n	Одним из древнейших способов са
 мовыражения человека является рисовани
 е. Археологи считают\, что самые ранние р
 укотворные наскальные изображения появ
 ились примерно 73 тысячи лет назад. Среди 
 них были в основном круги и точки. Именно
  круг стал той сакральной фигурой\, что в
 мещает все смыслы мироздания\, всю сущно
 сть макрокосма вселенной и микрокосма о
 тдельной души\, древнейшим архетипом сам
 ости. \nНа санскрите слово круг звучит ка
 к мандала.\nРисование мандал можно назва
 ть практикой активной медитации. Рисуя 
 мандалы\, мы погружаемся в настоящий про
 цесс: замедляемся\, входим в контакт с со
 бой и своим бессознательным\, со своими м
 ыслями\, чувствами\, телесными ощущениям
 и. Заполняя круг\, мы не только рисуем пор
 трет своего состояния\, но и запускаем по
 зитивные трансформации в своей жизни.\n\n\
 n\n\n	Для кого:\n\n 	\nДля всех\, кто хочет науч
 иться лучше понимать свои чувства\, эмоц
 ии и потребности.\n\n 	\nДля всех\, кто хочет
  жить в гармонии с собой и внешним миром. 
 \n\n 	\n Для всех\, кто нуждается в общении п
 о интересам и просто с хорошими людьми.\n\
 n\nЧто мы будем делать:\n\n 	\nРисовать. Расс
 лабленно и спокойно\, сосредоточившись н
 а себе\n\n 	\nГоворить! Бережно и безопасно 
 о своих чувствах и мыслях\, и не только\n\n 
 	\nИнтерпретировать и анализировать! Обр
 азы\, структуры\, формы\, цвета.\n\n 	\nАктуал
 изировать свое состояние в моменте\, эмо
 ции\, путь\, опыт\n\n 	\nРазвивать понимание 
 себя и своих вытесняемых в бессознатель
 ное процессов\n\n 	\nНаходить дефициты и ре
 сурсы\, опираясь на свои сильные стороны\
 n\n 	\nСоздавать новые нейронные связи и па
 ттерны\n\n 	\nУчиться выстраивать новые ст
 ратегии поведения\, взаимодействия с сам
 им собой и окружающими\n\n 	\nПолучать подд
 ержку и безусловное принятие группы\n\n 	\n
 Общаться и приобретать новых друзей и ед
 иномышленников\n\n\n\n&nbsp\;\nВы на собственн
 ом опыте сможете оценить мандалу как пре
 красный диагностический и терапевтичес
 кий инструмент\, который уже сам по себе 
 гармонизирует и исцеляет. \n[siteorigin_widget class
 ="SiteOrigin_Widget_Image_Widget"][/siteorigin_widget]\n\n	Занятие 
 проводит\nОльга Ролевич - психолог-сексо
 лог\, арт-терапевт\, песочный терапевт\, ч
 лен ассоциации песочных терапевтов. \nПр
 актический опыт: индивидуальное консуль
 тирование\, семейное консультирование с 
 применением методов песочной терапии\, а
 рт-терапии\, когнитивно-поведенческой и 
 экзистенциальной психологии. Кризисная 
 терапия. Сексология.\n\n\n\n	КОГДА: 22 ноября 
 (пятница) 18.00\nПРОДОЛЖИТЕЛЬНОСТЬ: 2-3 часа 
 \nГДЕ: г.Минск\, пр Независимости\, 27а\, 2 по
 дъезд. \nСТОИМОСТЬ: 75 руб. При записи опла
 чивается аванс 20 руб.\nВсе необходимые ма
 териалы для работы предоставляются на м
 есте.\n\nКоличество человек в группе огра
 ничено!\n\nЧтобы принять участие жмите кн
 опочку "Записаться"!\n\n
ATTACH;FMTTYPE=image/jpeg:https://nestart.by/wp-content/uploads/2024/10/М
 андала-коллаж_1.jpg
CATEGORIES:арт-школа,самопознание
LOCATION:#_LOCATIONNAME\, #_LOCATIONFULLLINE\, #_LOCATIONCOUNTRY
X-APPLE-STRUCTURED-LOCATION;VALUE=URI;X-ADDRESS=#_LOCATIONFULLLINE\, #_LOCA
 TIONCOUNTRY;X-APPLE-RADIUS=100;X-TITLE=#_LOCATIONNAME:geo:0,0
END:VEVENT
END:VCALENDAR