BEGIN:VCALENDAR
VERSION:2.0
PRODID:-//wp-events-plugin.com//7.2.2.1//EN
BEGIN:VEVENT
UID:164@nestart.by
DTSTART:20241016T190000Z
DTEND:20241016T203000Z
DTSTAMP:20250606T122528Z
URL:https://nestart.by/events2/biopreparaty-biodso/
SUMMARY:Все о биопрепаратах от производител
 я.
DESCRIPTION:\n\n	\nЭффективность применения биоп
 репаратов на основе живых культур микро
 организмов.\n\n[siteorigin_widget class="SiteOrigin_Widget_Image
 _Widget"][/siteorigin_widget]\n\n	На этом вебинаре \n\n\nм
 ы встретимся с директором компании "СФЕР
 УМ" Ермолиным Андреем Николаевичем. Комп
 ания производит препараты\, содержащие ж
 ивые культуры микроорганизмов для сферы
  АПК и личных подсобных хозяйств.\n\n\nуслы
 шим подробную информацию о действии био
 препаратов от разработчиков:  микробиол
 ога НИЛ молекулярной генетики и биотехн
 ологии кафедры генетики биологического 
 факультета БГУ.\n\n\nполучим ответы на все 
 интересующие вопросы о биопрепаратах\n\n\
 nдля участников вебинара предусмотрен п
 риятный бонус - скидки до 40% на покупку би
 опрепаратов.\n\n\n\n\n\n	Попытки сохранить ур
 ожай и декоративность ландшафтных садов
   - это основная задача владельцев частн
 ых и промышленных садов и специалистов п
 о уходу за растениями.\nСегодня использу
 ют два способа борьбы с возбудителями за
 болеваний растений и вредителями\nсельс
 кохозяйственных культур: \n\nхимические с
 редства защиты \nбиологические средства
  защиты \n\n\n[siteorigin_widget class="SiteOrigin_Widget_Accordion
 _Widget"][/siteorigin_widget]\n\n	Бактерии - основной дв
 игатель биогеохимических циклов биосфе
 рной системы. Остановить вал патогенов м
 ожет только нормальная почвенная микроф
 лора\, которая безопасна для окружающей 
 среды.\nИспользуя препараты\, содержащие 
 живые микроорганизмы\, мы сохраняем здор
 овье человека!\n&nbsp\;\n\n[siteorigin_widget class="SiteOrigi
 n_Widget_Accordion_Widget"][/siteorigin_widget][siteorigin_widget class="S
 iteOrigin_Widget_Image_Widget"][/siteorigin_widget]\n\n	Для кого: 
 для всех\, кого интересуют эффективные и 
 безопасные средства защиты растений.\nКо
 гда: 16 октября 2024г в 19.00\nГде: онлайн\, встр
 еча в ZOOM.\nВХОД СВОБОДНЫЙ ДЛЯ ВСЕХ ЖЕЛАЮЩ
 ИХ ПО ПРЕДВАРИТЕЛЬНОЙ ЗАПИСИ.\nПосле рег
 истрации вам на указанный e-mail придет пис
 ьмо с ссылкой на ZOOM-конференцию. Если не 
 можете найти письмо - посмотрите в папке 
 СПАМ. \n\nБОНУС!!!!! ДЛЯ УЧАСТНИКОВ ВЕБИНАР
 А СКИДКИ ДО 40% НА ПОКУПКУ БИОПРЕПАРАТОВ.\n
 \n&nbsp\;\nЧтобы попасть на вебинар\, жмите кн
 опочку "Записаться"!\n Записаться! \n\n
ATTACH;FMTTYPE=image/jpeg:https://nestart.by/wp-content/uploads/2024/10/Bi
 oDSO_1.png
LOCATION:#_LOCATIONNAME\, #_LOCATIONFULLLINE\, #_LOCATIONCOUNTRY
X-APPLE-STRUCTURED-LOCATION;VALUE=URI;X-ADDRESS=#_LOCATIONFULLLINE\, #_LOCA
 TIONCOUNTRY;X-APPLE-RADIUS=100;X-TITLE=#_LOCATIONNAME:geo:0,0
END:VEVENT
END:VCALENDAR