BEGIN:VCALENDAR
VERSION:2.0
PRODID:-//wp-events-plugin.com//7.2.2.1//EN
BEGIN:VEVENT
UID:86@nestart.by
DTSTART;VALUE=DATE:20240612
DTEND;VALUE=DATE:20240701
DTSTAMP:20250606T122416Z
URL:https://nestart.by/events2/booking/
SUMMARY:Курсы ландшафтной школы
DESCRIPTION:\n\n	УЖЕ СЕЙЧАС ВЫ МОЖЕТЕ ЗАПИСАТЬСЯ
  НА ЛЮБОЙ КУРС С ПРИЯТНОЙ СКИДКОЙ\nСтарт 
 групп начинается с СЕНТЯБРЯ.  Количеств
 о мест ограничено.\nУспейте забронироват
 ь себе место!\n \n\n\n\n	\n\n\n\nИстория и миссия
 \nНаша школа была основана в 2001 году. Наша
  школа уже более 20 лет принимает взрослы
 х людей из Беларуси\, а теперь и со всего 
 мира! Миссия наших курсов – создать все 
 условия\,  чтобы вы получили знания и пра
 ктические навыки в ландшафтной сфере. Пр
 иобрели новую\, востребованную и высокоо
 плачиваемую профессию.\n\n[siteorigin_widget class="Si
 teOrigin_Widget_Image_Widget"][/siteorigin_widget]\n\n	Курсы и фо
 рматы обучения\nШкола "НестАрт" предлага
 ет пройти обучение\nпо курсам\n"Ландшафтн
 ый дизайн" и  "Садовник-дизайнер"\nв офлай
 н формате в Минске и ОНЛАЙН формат\nНА УД
 ОБНОЙ ОБУЧАЮЩЕЙ ПЛАТФОРМЕ!\nВЫБЕРИТЕ НИЖ
 Е КУРС И ФОРМАТ ОБУЧЕНИЯ\n\n[siteorigin_widget class="
 SiteOrigin_Widget_Image_Widget"][/siteorigin_widget][siteorigin_widget cla
 ss="SiteOrigin_Widget_Image_Widget"][/siteorigin_widget][siteorigin_widget
  class="SiteOrigin_Widget_Image_Widget"][/siteorigin_widget][siteorigin_wi
 dget class="SiteOrigin_Widget_Image_Widget"][/siteorigin_widget]\n\n	НИ 
 ДЛЯ КОГО НЕ СЕКРЕТ\, ЧТО ЛУЧШАЯ ИНВЕСТИЦИ
 Я  - ЭТО ИНВЕСТИЦИЯ В СЕБЯ!\n\n[siteorigin_widget clas
 s="SiteOrigin_Widget_Image_Widget"][/siteorigin_widget][siteorigin_widget 
 class="SiteOrigin_Widget_Image_Widget"][/siteorigin_widget]
ATTACH;FMTTYPE=image/jpeg:https://nestart.by/wp-content/uploads/2020/11/р
 аннее-бронирование.png
CATEGORIES:курс,ландшафтная,новости,онлайн
LOCATION:#_LOCATIONNAME\, #_LOCATIONFULLLINE\, #_LOCATIONCOUNTRY
X-APPLE-STRUCTURED-LOCATION;VALUE=URI;X-ADDRESS=#_LOCATIONFULLLINE\, #_LOCA
 TIONCOUNTRY;X-APPLE-RADIUS=100;X-TITLE=#_LOCATIONNAME:geo:0,0
END:VEVENT
END:VCALENDAR