BEGIN:VCALENDAR
VERSION:2.0
PRODID:-//wp-events-plugin.com//7.2.2.1//EN
BEGIN:VEVENT
UID:108@nestart.by
DTSTART;VALUE=DATE:20221101
DTEND;VALUE=DATE:20221115
DTSTAMP:20250606T122015Z
URL:https://nestart.by/events2/bron-prorab/
SUMMARY:Раннее бронирование на курс "Прораб 
 на ландшафтном объекте"!
DESCRIPTION:Объявлена запись на курс ПРОРАБ НА
  ЛАНДШАФТНОМ ОБЪЕКТЕ\n(онлайн формат обу
 чения)!\nПри записи на курс до 14 ноября 2022
  года (включительно)\nдействует СКИДКА РА
 ННЕЕ БРОНИРОВАНИЕ  50 рублей!\n490  440 BYN \nск
 идка действует только на полный курс обу
 чения\n&nbsp\;\nПОЗНАКОМИТЬСЯ С ПРОГРАММОЙ К
 УРСА\n&nbsp\;\n[button type="link" size="lg" link="#" xclass="popmake-
 9839"] Записаться на курс со скидкой РАННЕЕ
  БРОНИРОВАНИЕ [/button]
ATTACH;FMTTYPE=image/jpeg:https://nestart.by/wp-content/uploads/2021/09/Р
 аннее-бронирование-ПРОРАБ.jpg
CATEGORIES:курс
LOCATION:#_LOCATIONNAME\, #_LOCATIONFULLLINE\, #_LOCATIONCOUNTRY
X-APPLE-STRUCTURED-LOCATION;VALUE=URI;X-ADDRESS=#_LOCATIONFULLLINE\, #_LOCA
 TIONCOUNTRY;X-APPLE-RADIUS=100;X-TITLE=#_LOCATIONNAME:geo:0,0
END:VEVENT
END:VCALENDAR