BEGIN:VCALENDAR
VERSION:2.0
PRODID:-//wp-events-plugin.com//7.2.2.1//EN
BEGIN:VEVENT
UID:74@nestart.by
DTSTART:20210204T090000Z
DTEND:20210220T121500Z
DTSTAMP:20250606T120503Z
URL:https://nestart.by/events2/course-garden-morning/
SUMMARY:Курс "Садовник" утренняя группа
DESCRIPTION:
ATTACH;FMTTYPE=image/jpeg:https://nestart.by/wp-content/uploads/2020/08/С
 АД-УТР.jpg
CATEGORIES:курс,ландшафтная
LOCATION:#_LOCATIONNAME\, #_LOCATIONFULLLINE\, #_LOCATIONCOUNTRY
X-APPLE-STRUCTURED-LOCATION;VALUE=URI;X-ADDRESS=#_LOCATIONFULLLINE\, #_LOCA
 TIONCOUNTRY;X-APPLE-RADIUS=100;X-TITLE=#_LOCATIONNAME:geo:0,0
END:VEVENT
END:VCALENDAR