BEGIN:VCALENDAR
VERSION:2.0
PRODID:-//wp-events-plugin.com//7.2.2.1//EN
BEGIN:VEVENT
UID:71@nestart.by
DTSTART:20230215T180000Z
DTEND:20230215T211500Z
DTSTAMP:20250606T122020Z
URL:https://nestart.by/events2/course-ld-evening/
SUMMARY:Курс "Ландшафтный дизайн" офлайн гру
 ппа (утр группа)
DESCRIPTION:
ATTACH;FMTTYPE=image/jpeg:https://nestart.by/wp-content/uploads/2020/08/Л
 АНД-ОФЛАЙН.jpg
CATEGORIES:курс,ландшафтная
LOCATION:#_LOCATIONNAME\, #_LOCATIONFULLLINE\, #_LOCATIONCOUNTRY
X-APPLE-STRUCTURED-LOCATION;VALUE=URI;X-ADDRESS=#_LOCATIONFULLLINE\, #_LOCA
 TIONCOUNTRY;X-APPLE-RADIUS=100;X-TITLE=#_LOCATIONNAME:geo:0,0
END:VEVENT
END:VCALENDAR