BEGIN:VCALENDAR
VERSION:2.0
PRODID:-//wp-events-plugin.com//7.2.2.1//EN
BEGIN:VEVENT
UID:83@nestart.by
DTSTART:20211223T120000Z
DTEND:20211223T160000Z
DTSTAMP:20250606T121945Z
URL:https://nestart.by/events2/cristmass-candle-decor/
SUMMARY:23 дек 2021 Рождественский декор свечи
DESCRIPTION:Создайте новогоднее настроение в 
 своем доме!
ATTACH;FMTTYPE=image/jpeg:https://nestart.by/wp-content/uploads/2020/11/cr
 istmass-composition-3.jpg
CATEGORIES:мастер-класс,флористика
LOCATION:#_LOCATIONNAME\, #_LOCATIONFULLLINE\, #_LOCATIONCOUNTRY
X-APPLE-STRUCTURED-LOCATION;VALUE=URI;X-ADDRESS=#_LOCATIONFULLLINE\, #_LOCA
 TIONCOUNTRY;X-APPLE-RADIUS=100;X-TITLE=#_LOCATIONNAME:geo:0,0
END:VEVENT
END:VCALENDAR