BEGIN:VCALENDAR
VERSION:2.0
PRODID:-//wp-events-plugin.com//7.2.2.1//EN
BEGIN:VEVENT
UID:125@nestart.by
DTSTART:20231003T180000Z
DTEND:20231003T193000Z
DTSTAMP:20250606T122217Z
URL:https://nestart.by/events2/dod-art-school/
SUMMARY:День Открытых Дверей АРТ-Школы
DESCRIPTION:День Открытых Дверей - это не тольк
 о возможность получить ответы на вопрос
 ы о профессии\, но и множество полезной и
 нформации\, а также скидки и бонусы!
ATTACH;FMTTYPE=image/jpeg:https://nestart.by/wp-content/uploads/2023/09/Д
 ОД_Арт-школа.jpg
CATEGORIES:интерьерная,курс,мастер-класс,сем
 нар
LOCATION:#_LOCATIONNAME\, #_LOCATIONFULLLINE\, #_LOCATIONCOUNTRY
X-APPLE-STRUCTURED-LOCATION;VALUE=URI;X-ADDRESS=#_LOCATIONFULLLINE\, #_LOCA
 TIONCOUNTRY;X-APPLE-RADIUS=100;X-TITLE=#_LOCATIONNAME:geo:0,0
END:VEVENT
END:VCALENDAR