BEGIN:VCALENDAR
VERSION:2.0
PRODID:-//wp-events-plugin.com//7.2.2.1//EN
BEGIN:VEVENT
UID:13@nestart.by
DTSTART:20250906T130000Z
DTEND:20250906T144500Z
DTSTAMP:20250828T131210Z
URL:https://nestart.by/events2/dod-flora-minsk/
SUMMARY:День Открытых Дверей Школы Флористи
 ки
DESCRIPTION:День Открытых Дверей - это не тольк
 о возможность получить ответы на вопрос
 ы о профессии\, но и множество полезной и
 нформации\, а также скидки и бонусы!
ATTACH;FMTTYPE=image/jpeg:https://nestart.by/wp-content/uploads/2019/09/д
 од-БАННЕР.png
CATEGORIES:курс,мастер-класс,семинар,флорист
 ка
LOCATION:#_LOCATIONNAME\, #_LOCATIONFULLLINE\, #_LOCATIONCOUNTRY
X-APPLE-STRUCTURED-LOCATION;VALUE=URI;X-ADDRESS=#_LOCATIONFULLLINE\, #_LOCA
 TIONCOUNTRY;X-APPLE-RADIUS=100;X-TITLE=#_LOCATIONNAME:geo:0,0
END:VEVENT
END:VCALENDAR