BEGIN:VCALENDAR
VERSION:2.0
PRODID:-//wp-events-plugin.com//7.2.2.1//EN
BEGIN:VEVENT
UID:37@nestart.by
DTSTART:20220210T180000Z
DTEND:20220211T202000Z
DTSTAMP:20250606T121949Z
URL:https://nestart.by/events2/dodld/
SUMMARY:ДОД Школы Ландшафтного Дизайна
DESCRIPTION:День Открытых Дверей - это не тольк
 о возможность получить ответы на вопрос
 ы о профессии\, но и множество полезной и
 нформации\, а также скидки и бонусы!
ATTACH;FMTTYPE=image/jpeg:https://nestart.by/wp-content/uploads/2022/02/Д
 ОД-ЛД-онлайн.jpg
CATEGORIES:курс,ландшафтная,мастер-класс,нов
 сти,семинар
LOCATION:#_LOCATIONNAME\, #_LOCATIONFULLLINE\, #_LOCATIONCOUNTRY
X-APPLE-STRUCTURED-LOCATION;VALUE=URI;X-ADDRESS=#_LOCATIONFULLLINE\, #_LOCA
 TIONCOUNTRY;X-APPLE-RADIUS=100;X-TITLE=#_LOCATIONNAME:geo:0,0
END:VEVENT
END:VCALENDAR