BEGIN:VCALENDAR
VERSION:2.0
PRODID:-//wp-events-plugin.com//7.2.2.1//EN
BEGIN:VEVENT
UID:170@nestart.by
DTSTART:20250411T180000Z
DTEND:20250411T210000Z
DTSTAMP:20250613T075126Z
URL:https://nestart.by/events2/ester-wreath/
SUMMARY:Пасхальный венок.
DESCRIPTION:Пасхальный венок своими руками! 
ATTACH;FMTTYPE=image/jpeg:https://nestart.by/wp-content/uploads/2025/03/П
 асх-венок_банер.jpg
LOCATION:#_LOCATIONNAME\, #_LOCATIONFULLLINE\, #_LOCATIONCOUNTRY
X-APPLE-STRUCTURED-LOCATION;VALUE=URI;X-ADDRESS=#_LOCATIONFULLLINE\, #_LOCA
 TIONCOUNTRY;X-APPLE-RADIUS=100;X-TITLE=#_LOCATIONNAME:geo:0,0
END:VEVENT
END:VCALENDAR