BEGIN:VCALENDAR
VERSION:2.0
PRODID:-//wp-events-plugin.com//7.2.2.1//EN
BEGIN:VEVENT
UID:36@nestart.by
DTSTART:20210909T183000Z
DTEND:20210909T200000Z
DTSTAMP:20250606T120546Z
URL:https://nestart.by/events2/floramj/
SUMMARY:День Открытых Дверей Школы Флористи
 ки
DESCRIPTION:День Открытых Дверей Школы Флорис
 тики - это прекрасная возможность узнать
  о профессии из первых уст и погрузиться 
 в творческую атмосферу!
ATTACH;FMTTYPE=image/jpeg:https://nestart.by/wp-content/uploads/2019/09/ф
 лора-дод.jpg
CATEGORIES:курс,мастер-класс,семинар,флорист
 ка
LOCATION:#_LOCATIONNAME\, #_LOCATIONFULLLINE\, #_LOCATIONCOUNTRY
X-APPLE-STRUCTURED-LOCATION;VALUE=URI;X-ADDRESS=#_LOCATIONFULLLINE\, #_LOCA
 TIONCOUNTRY;X-APPLE-RADIUS=100;X-TITLE=#_LOCATIONNAME:geo:0,0
END:VEVENT
END:VCALENDAR