BEGIN:VCALENDAR
VERSION:2.0
PRODID:-//wp-events-plugin.com//7.2.2.1//EN
BEGIN:VEVENT
UID:157@nestart.by
DTSTART:20240620T160000Z
DTEND:20240620T193000Z
DTSTAMP:20250606T122427Z
URL:https://nestart.by/events2/garden-trip-2024-06-20/
SUMMARY:Садовое путешествие 20 июня 2024г
DESCRIPTION:\n\n	Друзья! Лето в самом разгаре! \nС
 ады наполнены благоуханием цветов и жив
 описными красками лета. \nОткрываем нашу
  экскурсионную программу и приглашаем в
 ас в удивительное путешествие по садам! 
 \nНа этот раз мы не поедем далеко в заморс
 кие страны\, а заглянем к нашим соотечест
 венникам.\nДва сада\, две разные концепци
 и и разный возраст садов. \n\n\n\n	Сад Анаст
 асии   - молодой сад для молодой семьи. С
 ад в современном стиле\, где удачно совме
 щены геометрия планировки и архитектуры
  дома с природным наполнением.  Сад нача
 л планироваться и закладываться в 2020г.\nА
 настасия - хозяйка сада\, ландшафтный диз
 айнер\, выпускница творческой мастерско
 й "НестАрт".\n\n\n\n	[Best_Wordpress_Gallery id="127" gal_title="
 Садовые путешествия. Сад Анастасии_Воро
 чаевой."]\n\n\n\n	Красивый современный сад\, 
 где хозяйка\, она же дизайнер\, профессио
 нально поработала с МАФ\, которые поддер
 живают архитектуру дома\, зонируют участ
 ок. Удачно подобранный ассортимент раст
 ений наполняет сад пейзажными красками.\
 nСветлана - хозяйка сада\, ландшафтный ди
 зайнер\, выпускница Творческой мастерск
 ой "НестАрт".\n\n\n\n	[Best_Wordpress_Gallery id="124" gal_title=
 "Садовые путешествия. Сад на Горной улиц
 е."]\n\n\n\n	Дата поездки: 20 июня 2024г\nМесто вс
 тречи: за 2-3 дня до поездки назначаем в vibe
 r-чате группы\nВремя встречи: 16.00\nДо места
  встречи добираемся  самостоятельно на 
 своих авто. Кому необходима подсадка - до
 говариваемся в вайбер-чате с участникам
 и поездки.\nПродолжительность путешеств
 ия 3-4 часа.\nСтоимость участия в мероприя
 тии 60 руб.\n\n\n	\n
ATTACH;FMTTYPE=image/jpeg:https://nestart.by/wp-content/uploads/2023/07/С
 ад_Титовец_Светлана_03.jpg
LOCATION:#_LOCATIONNAME\, #_LOCATIONFULLLINE\, #_LOCATIONCOUNTRY
X-APPLE-STRUCTURED-LOCATION;VALUE=URI;X-ADDRESS=#_LOCATIONFULLLINE\, #_LOCA
 TIONCOUNTRY;X-APPLE-RADIUS=100;X-TITLE=#_LOCATIONNAME:geo:0,0
END:VEVENT
END:VCALENDAR