BEGIN:VCALENDAR
VERSION:2.0
PRODID:-//wp-events-plugin.com//7.2.2.1//EN
BEGIN:VEVENT
UID:123@nestart.by
DTSTART:20230712T163000Z
DTEND:20230712T210000Z
DTSTAMP:20250606T122206Z
URL:https://nestart.by/events2/garden-trip_2023-07-12/
SUMMARY:Садовое путешествие 12 июля 2023г
DESCRIPTION:\n\n	Друзья! Лето в самом разгаре! \nС
 ады наполнены благоуханием цветов и жив
 описными красками лета. \nОткрываем нашу
  экскурсионную программу и приглашаем в
 ас в удивительное путешествие по садам! 
 \nНа этот раз мы не поедем далеко в заморс
 кие страны\, а заглянем к нашим соотечест
 венникам.\nТри сада\, три разные концепци
 и и разный возраст садов. \n\n\n\n	Красивый 
 современный сад\, где хозяйка\, она же диз
 айнер\, профессионально поработала с МАФ
 \, которые поддерживают архитектуру дома
 \, зонируют участок. Удачно подобранный а
 ссортимент растений наполняет сад пейза
 жными красками.\nСветлана - хозяйка сада\,
  ландшафтный дизайнер\, выпускница Творч
 еской мастерской "НестАрт".\n\n[siteorigin_widget cl
 ass="SiteOrigin_Widget_Image_Widget"][/siteorigin_widget]\n\n	Сад Ан
 астасии   - молодой сад для молодой семь
 и. Сад в современном стиле\, где удачно со
 вмещены геометрия планировки и архитект
 уры дома с природным наполнением.  Сад н
 ачал планироваться и закладываться в 2020
 г.\nАнастасия - хозяйка сада\, ландшафтный
  дизайнер\, выпускница творческой мастер
 ской "НестАрт".\n\n[siteorigin_widget class="SiteOrigin_Widget_
 Image_Widget"][/siteorigin_widget]\n\n	В саду Muse Art нас вст
 ретит творческая и гостеприимная семья.\
 nАроматы обильно цветущих роз\, хвойные р
 астения: тисы\, коллекция сосен\, туи\, мож
 жевельники\, сад рододендронов\, постоян
 но пополняющиеся коллекции растений\, ди
 ковинные экзотические камни и ...  Хозяев
 ам есть чем удивить своих гостей.\nСветла
 на - хозяйка сада\, агроном\, агрохимиик-п
 очвовед\, преподаватель агрономических 
 дисциплин. А еще Светлана обучалась в тв
 орческой мастерской "НестАрт" на курсе "Л
 андшафтный дизайн".  \n\n[siteorigin_widget class="SiteOr
 igin_Widget_Image_Widget"][/siteorigin_widget]\n\n	Дата поездки
 : 12 июля 2023г (среда)\nМесто встречи: пос.Со
 сны\, ул.Академика Красина\, 27 (возле апте
 ки) \nВремя встречи: 17.00\nДо места встречи 
 добираемся  самостоятельно на своих авт
 о. Кому необходима подсадка - договарива
 емся в вайбер-чате с участниками поездки
 .\nПродолжительность путешествия 4-5 часо
 в.\nСтоимость участия в мероприятии 38 руб
 .\n\n
ATTACH;FMTTYPE=image/jpeg:https://nestart.by/wp-content/uploads/2020/05/Re
 construction-Collages.jpg
LOCATION:#_LOCATIONNAME\, #_LOCATIONFULLLINE\, #_LOCATIONCOUNTRY
X-APPLE-STRUCTURED-LOCATION;VALUE=URI;X-ADDRESS=#_LOCATIONFULLLINE\, #_LOCA
 TIONCOUNTRY;X-APPLE-RADIUS=100;X-TITLE=#_LOCATIONNAME:geo:0,0
END:VEVENT
END:VCALENDAR