BEGIN:VCALENDAR
VERSION:2.0
PRODID:-//wp-events-plugin.com//7.2.2.1//EN
BEGIN:VEVENT
UID:124@nestart.by
DTSTART:20230727T170000Z
DTEND:20230727T213000Z
DTSTAMP:20250606T122210Z
URL:https://nestart.by/events2/garden-trip_2023-07-27/
SUMMARY:Садовое путешествие 27 июля 2023г
DESCRIPTION:\n\n	Друзья! Лето все еще в самом раз
 гаре! \nСады наполнены благоуханием цвет
 ов и живописными красками лета. \nПродол
 жаем нашу экскурсионную программу и при
 глашаем вас в удивительное путешествие 
 по садам! \nМы снова едем в сады наших соо
 течественников.\n\n\n\n	Современный динами
 чный сад\, где хозяйка\, она же дизайнер\, 
 создает на своем участке размером 20 сото
 к божественную красоту\, выращивая разно
 образные растения\, в том числе и диковин
 ки. В саду есть все! И костровая-тандыр\, и
  беседка\, и сухой ручей с сиреневым цвет
 ником\, и вересковый садик \, и много штам
 бовых растений! А еще хозяйка Юлия ведет 
 свой блог\, где рассказывает о своем саде
  и делится полезной информацией! \nЮлия М
 атвейчук @pinacolada_garden - хозяйка сада\, ландш
 афтный дизайнер.  Юлия также была слушат
 ельницей курсов в Творческой мастерской
  "НестАрт".\n\n[siteorigin_widget class="SiteOrigin_Widget_Image_Wi
 dget"][/siteorigin_widget]\n\n	Сад Фотиния  расположи
 лся на вершине холма\, откуда открываютс
 я прекрасные виды на окружающее простра
 нство. Свежий ветер\, журчание ручья\, сте
 кающего по каменному руслу\, красивые ух
 оженные заботливыми руками хозяйки раст
 ения. Этот сад еще очень молодой\, он нача
 л планироваться и закладываться в 2021г.\, 
 растения набирают силу и пространство к
 аждый день обретает новый облик. \nСветл
 ана и Сергей - хозяева сада Фотиния\, вкла
 дывающие в него свои любовь и заботу.\n\n[si
 teorigin_widget class="SiteOrigin_Widget_Image_Widget"][/siteorigin_widget
 ]\n\n	Дата поездки: 27 июля 2023г (четверг)\nМар
 шрут поездки: Минский р-н.\, деревня Папер
 ня - дер.Нелидовичи\nВремя встречи: 17.00\nДо
  места встречи добираемся  самостоятель
 но на своих авто. Кому необходима подсад
 ка - договариваемся в вайбер-чате с участ
 никами поездки. Подробно о месте встречи
  обсуждаем в чате.\nПродолжительность пу
 тешествия около 4 часов.\nСтоимость участ
 ия в мероприятии 25 руб.\nЗапись на поездк
 у по тел или viber+375447500516\n\n
ATTACH;FMTTYPE=image/jpeg:https://nestart.by/wp-content/uploads/2023/07/С
 ад_Титовец_Светлана_03.jpg
LOCATION:#_LOCATIONNAME\, #_LOCATIONFULLLINE\, #_LOCATIONCOUNTRY
X-APPLE-STRUCTURED-LOCATION;VALUE=URI;X-ADDRESS=#_LOCATIONFULLLINE\, #_LOCA
 TIONCOUNTRY;X-APPLE-RADIUS=100;X-TITLE=#_LOCATIONNAME:geo:0,0
END:VEVENT
END:VCALENDAR