BEGIN:VCALENDAR
VERSION:2.0
PRODID:-//wp-events-plugin.com//7.2.2.1//EN
BEGIN:VEVENT
UID:158@nestart.by
DTSTART:20240701T163000Z
DTEND:20240701T193000Z
DTSTAMP:20250606T122438Z
URL:https://nestart.by/events2/garden-trip_2024-07-01/
SUMMARY:Садовое путешествие 1 июля 2024г
DESCRIPTION:\n\n	Друзья! Началась замечательная 
 пора - Лето! \nСады наполнены благоухание
 м цветов и живописными красками лета. \nП
 родолжаем нашу экскурсионную программу 
 и приглашаем вас в удивительное путешес
 твие по садам! \nМы снова едем в сады наши
 х соотечественников.\nТемы наших экскурс
 ий смогут удовлетворить большой интерес
  к  эстетике создания сада и ландшафтном
 у дизайну разных  возрастных групп люде
 й\, зародить в них любовь  к прекрасному 
 и сделать этот мир лучше!\n\n\n\n	Начнем наш
 е путешествие с питомника Глобозум.\nЭто 
 современный питомник декоративных раст
 ений\, который уже более 15 лет поставляет
  и выращивает более 1000 сортов деревьев и 
 кустарников.\nРасположен этот питомник с
 овсем рядом с садом\, в котором мы будем. 
 И поэтому мы ненадолго заедем сюда посмо
 треть и познакомиться с ассортиментом р
 астений. Как правило\, этот питомник всег
 да радует своих посетителей большим кол
 ичеством растений в наличии.\nВ питомник
 е вас будет сопровождать Богодухова Диа
 на Анатольевна - ведущий преподаватель ш
 колы Ландшафтного дизайна нашего учебно
 го центра.\n\n[siteorigin_widget class="SiteOrigin_Widget_Image_Wi
 dget"][/siteorigin_widget]\n\n	Далее мы поедем в сад тв
 орческой семьи.\nСад театрального художн
 ика\, который создавался 20 лет. Пространс
 тво  сада выдержано в английском стиле. 
 В нем  представлена коллекция из 120 сорт
 ов роз различных групп\, ведущих селекци
 онеров  мира и 170 единиц прекрасных роз р
 астущих в ландшафтных композициях.\nНа 20 
 сотках земли\, расположенных на склоне\, 
 имеются  множество других  растений\,  с
 кульптур и украшений. Сад  является непр
 ерывно цветущим. Вы можете  посетить это
   замечательное  место и помечтать о сво
 ём возможно будущем саде\, наглядно  пос
 мотреть некоторые приемы ландшафтного  
 дизайна. Здесь каждый  совершит  какие-т
 о маленькие открытия и  возможно  найде
 т вдохновение для зарождения своей мечт
 ы\, окунётся в мир прекрасных ароматов\, и
 гры красок и фактур!\nВы узнаете невероят
 ные истории из жизни растений и вам прио
 ткроется удивительный мир флоры нашей  
 земли. Начинающие  садоводы  смогут узн
 ать об уходе и агротехнике произрастающ
 их в саду растений\, получить руководств
 о к действию о планировании своего сада.\
 nАлеся Сорокина - хозяйка сада\, по профес
 сии театральный художник \, создает деко
 рации и костюмы к театральным постановк
 ам. Муж  Алексей —скульптор\, что тоже по
 влияло на становление сада. Ландшафтный 
 дизайн и садоводство это хобби хозяйки с
 ада\, которое переросло в дополнительную
  профессию.\n"Собственный сад я возделыва
 ю порядка 15 лет\, считаю его своим учител
 ем\; с ним я  взрослела и прошла  удивите
 льный путь проб и ошибок\, который каждог
 о из нас делал лучше." \n&nbsp\;\n\n\n\n	[Best_Wordpress_G
 allery id="121" gal_title="Садовые_путешествия_САД_А
 леси_Сорокинойся"]\n\n\n\n	Дата поездки: 1 ию
 ля 2024г (понедельник)\nМаршрут поездки: Ми
 нский р-н.\,  дер.Королищевичи -деревня Ел
 ьница\nВремя встречи: 16.30\nТочное место вс
 тречи оговаривается в вайбер-чате участ
 ников поездки.\nДо места встречи добирае
 мся  самостоятельно на своих авто. Кому 
 необходима подсадка - договариваемся в в
 айбер-чате с участниками поездки. \nСтои
 мость участия в мероприятии 50 руб.\nКОЛИЧ
 ЕСТВО ЧЕЛОВЕК В ГРУППЕ ОГРАНИЧЕНО!\n\nПри 
 резервировании места в группе  вносится
  аванс 10 руб.\n\nЕсли вы не сможете присутс
 твовать в этот день и сообщите нам об это
 м не позднее\, чем за 3 дня до даты проведе
 ния поездки\, оплаченный аванс может быт
 ь принят во взаимозачет при посещении лю
 бого другого мероприятия в нашей школе.\n
 \n&nbsp\;\n\n\n\n	ИЗВИНИТЕ\, В ДАННОЙ ГРУППЕ МЕСТ
  НЕТ\n\n
ATTACH;FMTTYPE=image/jpeg:https://nestart.by/wp-content/uploads/2024/06/С
 ад_Алеси_01.jpg
CATEGORIES:Тематические туры
LOCATION:#_LOCATIONNAME\, #_LOCATIONFULLLINE\, #_LOCATIONCOUNTRY
X-APPLE-STRUCTURED-LOCATION;VALUE=URI;X-ADDRESS=#_LOCATIONFULLLINE\, #_LOCA
 TIONCOUNTRY;X-APPLE-RADIUS=100;X-TITLE=#_LOCATIONNAME:geo:0,0
END:VEVENT
END:VCALENDAR