BEGIN:VCALENDAR
VERSION:2.0
PRODID:-//wp-events-plugin.com//7.2.2.1//EN
BEGIN:VEVENT
UID:155@nestart.by
DTSTART:20240703T110000Z
DTEND:20240703T140000Z
DTSTAMP:20250606T122443Z
URL:https://nestart.by/events2/garden-trip_2024-07-03/
SUMMARY:Садовое путешествие 3 июля 2024г
DESCRIPTION:\n\n	Друзья! Началась замечательная 
 пора - Лето! \nСады наполнены благоухание
 м цветов и живописными красками лета. \nП
 родолжаем нашу экскурсионную программу 
 и приглашаем вас в удивительное путешес
 твие по садам! \nМы снова едем в сады наши
 х соотечественников.\nТемы наших экскурс
 ий смогут удовлетворить большой интерес
  к  эстетике создания сада и ландшафтном
 у дизайну разных  возрастных групп люде
 й\, зародить в них любовь  к прекрасному 
 и сделать этот мир лучше!\n\n\n	Сад театрал
 ьного художника\, который создавался 20 л
 ет. Пространство  сада выдержано в англи
 йском стиле. В нем  представлена коллекц
 ия из 120 сортов роз различных групп\, веду
 щих селекционеров  мира и 170 единиц прек
 расных роз растущих в ландшафтных компо
 зициях.\nНа 20 сотках земли\, расположенны
 х на склоне\, имеются  множество других  
 растений\,  скульптур и украшений. Сад  я
 вляется непрерывно цветущим. Вы можете  
 посетить это  замечательное  место и по
 мечтать о своём возможно будущем саде\, н
 аглядно  посмотреть некоторые приемы ла
 ндшафтного  дизайна. Здесь каждый  сове
 ршит  какие-то маленькие открытия и  воз
 можно  найдет вдохновение для зарождени
 я своей мечты\, окунётся в мир прекрасных
  ароматов\, игры красок и фактур!\nВы узна
 ете невероятные истории из жизни растен
 ий и вам приоткроется удивительный мир ф
 лоры нашей  земли. Начинающие  садоводы
   смогут узнать об уходе и агротехнике п
 роизрастающих в саду растений\, получить
  руководство к действию о планировании с
 воего сада.\nАлеся Сорокина - хозяйка сад
 а\, по профессии театральный художник \, с
 оздает декорации и костюмы к театральны
 м постановкам. Муж  Алексей —скульптор\,
  что тоже повлияло на становление сада. Л
 андшафтный дизайн и садоводство это хоб
 би хозяйки сада\, которое переросло в доп
 олнительную профессию.\n"Собственный сад
  я возделываю порядка 15 лет\, считаю его с
 воим учителем\; с ним я  взрослела и прош
 ла  удивительный путь проб и ошибок\, кот
 орый каждого из нас делал лучше." \n&nbsp\;\n\n\
 n\n	[Best_Wordpress_Gallery id="121" gal_title="Садовые_путеш
 ествия_САД_Алеси_Сорокинойся"]\n\n\n\n	Второ
 е место нашего путешествия - питомник Гл
 обозум.\nЭто современный питомник декора
 тивных растений\, который уже более 15 лет
  поставляет и выращивает более 1000 сортов
  деревьев и кустарников.\nРасположен это
 т питомник совсем рядом с садом\, в котор
 ом мы будем. И поэтому мы ненадолго заеде
 м сюда посмотреть и познакомиться с ассо
 ртиментом растений. Как правило\, этот пи
 томник всегда радует своих посетителей 
 большим количеством растений в наличии.\
 nВ питомнике вас будет сопровождать Бого
 духова Диана Анатольевна - ведущий препо
 даватель школы Ландшафтного дизайна наш
 его учебного центра.\n\n[siteorigin_widget class="SiteOri
 gin_Widget_Image_Widget"][/siteorigin_widget]\n\n	Дата поездки:
  3 июля 2024г (среда)\nМаршрут поездки: Минск
 ий р-н.\, деревня Ельница - дер.Королищеви
 чи\nВремя встречи: 11.00\nТочное место встре
 чи оговаривается в вайбер-чате участник
 ов поездки.\nДо места встречи добираемся
   самостоятельно на своих авто. Кому нео
 бходима подсадка - договариваемся в вайб
 ер-чате с участниками поездки. \nСтоимос
 ть участия в мероприятии 50 руб.\nКОЛИЧЕСТ
 ВО ЧЕЛОВЕК В ГРУППЕ ОГРАНИЧЕНО!\nПри резе
 рвировании места в группе  вносится ава
 нс 10 руб.\nЕсли вы не сможете присутствов
 ать в этот день и сообщите нам об этом не 
 позднее\, чем за 3 дня до даты проведения 
 поездки\, оплаченный аванс может быть пр
 инят во взаимозачет при посещении любог
 о другого мероприятия в нашей школе.\n&nbsp\
 ;\n\n\n\n\n	 ИЗВИНИТЕ\, В ДАННОЙ ГРУППЕ МЕСТ НЕ
 Т \n\n\n
ATTACH;FMTTYPE=image/jpeg:https://nestart.by/wp-content/uploads/2024/06/С
 ад_Алеси_01.jpg
CATEGORIES:Тематические туры
LOCATION:#_LOCATIONNAME\, #_LOCATIONFULLLINE\, #_LOCATIONCOUNTRY
X-APPLE-STRUCTURED-LOCATION;VALUE=URI;X-ADDRESS=#_LOCATIONFULLLINE\, #_LOCA
 TIONCOUNTRY;X-APPLE-RADIUS=100;X-TITLE=#_LOCATIONNAME:geo:0,0
END:VEVENT
END:VCALENDAR