BEGIN:VCALENDAR
VERSION:2.0
PRODID:-//wp-events-plugin.com//7.2.2.1//EN
BEGIN:VEVENT
UID:159@nestart.by
DTSTART:20240717T163000Z
DTEND:20240717T193000Z
DTSTAMP:20250606T122454Z
URL:https://nestart.by/events2/garden-trip_2024-07-17/
SUMMARY:Садовое путешествие 17 июля 2024г
DESCRIPTION:\n\n	Друзья! \nСады наполнены благоу
 ханием цветов и живописными красками ле
 та. \nПродолжаем нашу экскурсионную прог
 рамму и приглашаем вас в удивительное пу
 тешествие по садам! \nМы снова едем в сад
 ы наших соотечественников.\nТемы наших э
 кскурсий смогут удовлетворить большой и
 нтерес к  эстетике создания сада и ландш
 афтному дизайну разных  возрастных груп
 п людей\, зародить в них любовь  к прекра
 сному и сделать этот мир лучше!\n\n\n\n	Совр
 еменный динамичный сад\, где хозяйка\, он
 а же дизайнер\, создает на своем участке 
 размером 20 соток божественную красоту\, 
 выращивая разнообразные растения\, в том
  числе и диковинки. В саду есть все! И кос
 тровая-тандыр\, и беседка\, и сухой ручей 
 с сиреневым цветником\, и вересковый сад
 ик \, и много штамбовых растений! А еще хо
 зяйка Юлия ведет свой блог\, где рассказы
 вает о своем саде и делится полезной инф
 ормацией! \nЮлия Матвейчук @pinacolada_garden - хо
 зяйка сада\, ландшафтный дизайнер.  Юлия 
 также была слушательницей курсов в Твор
 ческой мастерской "НестАрт".\n\n\n\n	[Best_Wordpres
 s_Gallery id="130" gal_title="Сад_Pinacolada"]\n\n\n\n	В саду Muse
  Art нас встретит творческая и гостеприим
 ная семья.\nАроматы обильно цветущих роз\
 , хвойные растения: тисы\, коллекция сосе
 н\, туи\, можжевельники\, сад рододендроно
 в\, постоянно пополняющиеся коллекции ра
 стений\, диковинные экзотические камни и
  ...  Хозяевам есть чем удивить своих гост
 ей.\nСветлана - хозяйка сада\, агроном\, аг
 рохимиик-почвовед\, преподаватель агрон
 омических дисциплин. А еще Светлана обуч
 алась в творческой мастерской "НестАрт" 
 на курсе "Ландшафтный дизайн". \n\n\n\n	[Best_Wor
 dpress_Gallery id="129" gal_title="Садовые путешествия. 
 Сад MuseART"]\n\n\n\n	Дата поездки: 17 июля 2024г (ср
 еда)\nМаршрут поездки: Минский р-н.\,  дер.
 Паперня -АГ Ждановичи\nВремя встречи: 16.30\
 nТочное место встречи оговаривается в ва
 йбер-чате участников поездки.\nДо места в
 стречи добираемся  самостоятельно на св
 оих авто. Кому необходима подсадка - дого
 вариваемся в вайбер-чате с участниками п
 оездки. \nСтоимость участия в мероприяти
 и 60 руб.\nКОЛИЧЕСТВО ЧЕЛОВЕК В ГРУППЕ ОГР
 АНИЧЕНО!\nПри резервировании места в гру
 ппе  вносится аванс 10 руб.\nЕсли вы не смо
 жете присутствовать в этот день и сообщи
 те нам об этом не позднее\, чем за 3 дня до 
 даты проведения поездки\, оплаченный ава
 нс может быть принят во взаимозачет при 
 посещении любого другого мероприятия в 
 нашей школе.\n&nbsp\;\n\n\n\n\n	Запись на меропри
 ятие ЗАКРЫТА\n\n
ATTACH;FMTTYPE=image/jpeg:https://nestart.by/wp-content/uploads/2023/07/С
 ад_Титовец_Светлана_03.jpg
CATEGORIES:Тематические туры
LOCATION:#_LOCATIONNAME\, #_LOCATIONFULLLINE\, #_LOCATIONCOUNTRY
X-APPLE-STRUCTURED-LOCATION;VALUE=URI;X-ADDRESS=#_LOCATIONFULLLINE\, #_LOCA
 TIONCOUNTRY;X-APPLE-RADIUS=100;X-TITLE=#_LOCATIONNAME:geo:0,0
END:VEVENT
END:VCALENDAR