BEGIN:VCALENDAR
VERSION:2.0
PRODID:-//wp-events-plugin.com//7.2.2.1//EN
BEGIN:VEVENT
UID:160@nestart.by
DTSTART:20240731T170000Z
DTEND:20240731T200000Z
DTSTAMP:20250606T122456Z
URL:https://nestart.by/events2/garden-trip_2024-07-31/
SUMMARY:Садовое путешествие 31 июля 2024г
DESCRIPTION:\n\n	Друзья! Лето все еще в самом раз
 гаре! \nСады наполнены благоуханием цвет
 ов и живописными красками лета. \nПродол
 жаем нашу экскурсионную программу и при
 глашаем вас в удивительное путешествие 
 по садам! \nМы снова едем в сады наших соо
 течественников.\n\n\n\n	Первый сад\, который
  мы посетим сегодня - это сад Villa Iconic Garden. \
 nОлег - его основатель\, биолог по образов
 анию\, занимается ландшафтным дизайном. 
 Его сад - обитель тишины и покоя в достат
 очно оживленном поселке. В саду\, размеще
 нном на двух террасах\, можно увидеть рас
 тения из разных климатических зон.  Расп
 оложение  дома позволяет ловить освещен
 ие весь световой день. И\, несмотря на бол
 ьшое количество взрослых растений\, в то
 м числе и экзотических\, это сад малого у
 хода.\n&nbsp\;\n&nbsp\;\n\n\n\n	[Best_Wordpress_Gallery id="133" gal_t
 itle="Сад_Iconic_Garden"]\n\n\n\n	Второй сад - это сад A
 nnaDecoro. Хозяйка сада Анна - декоратор\, кот
 орая не только занимается  декором\, но и
  обучает этому детей и взрослых. Сад - это
  продолжение дома. В доме и саду очень мн
 ого сделано руками творческих  людей - А
 нны и ее супруга Владимира. Удачное зони
 рование сада позволило разместить много
  функциональных зон: мастерские\, зоны от
 дыха\, водоем\, приватная зона отдыха воз
 ле пруда\, лужайка\, птичник и много еще и
 нтересного. Несмотря на небольшой разме
 р участка\, гуляя по саду\, можно даже заб
 лудиться в нем. Остов сада - взрослые рас
 тения\, требующие  минимального хода.\nP.S.
  С Анной мы знакомы уже много лет. В 2002 го
 ду Анна обучалась в Творческой мастерск
 ой "НестАрт" на курсе "Флористика".\n\n\n\n	[Bes
 t_Wordpress_Gallery id="134" gal_title="Сад AnnaDecoro"]\n\n\n\n	Дат
 а поездки: 31 июля 2024г (среда)\nМаршрут пое
 здки: Минский р-н.\, А.Г. Ратомка\nВремя вст
 речи: 17.00\nДо места встречи добираемся  с
 амостоятельно на своих авто. Кому необхо
 дима подсадка - договариваемся в вайбер-
 чате с участниками поездки. Подробно о м
 есте встречи обсуждаем в чате.\nПродолжи
 тельность путешествия около 3 часов.\nСто
 имость участия в мероприятии 60 руб.\nТочн
 ое место встречи оговаривается в вайбер-
 чате участников поездки.\nКОЛИЧЕСТВО ЧЕЛ
 ОВЕК В ГРУППЕ ОГРАНИЧЕНО!\nПри резервиро
 вании места в группе  вносится аванс 10 р
 уб.\nЕсли вы не сможете присутствовать в 
 этот день и сообщите нам об этом не поздн
 ее\, чем за 3 дня до даты проведения поезд
 ки\, оплаченный аванс может быть принят в
 о взаимозачет при посещении любого друг
 ого мероприятия в нашей школе.\n&nbsp\;\n\n\n\n\n
 	В ДАННОЙ ГРУППЕ ОСТАЛОСЬ 2 МЕСТА\n\nДля бр
 онирования места нажимайте кнопочку "За
 писаться"!\n Записаться! \n\n\n
ATTACH;FMTTYPE=image/jpeg:https://nestart.by/wp-content/uploads/2024/06/З
 аставка_Anna_Decoro_01.jpg
LOCATION:#_LOCATIONNAME\, #_LOCATIONFULLLINE\, #_LOCATIONCOUNTRY
X-APPLE-STRUCTURED-LOCATION;VALUE=URI;X-ADDRESS=#_LOCATIONFULLLINE\, #_LOCA
 TIONCOUNTRY;X-APPLE-RADIUS=100;X-TITLE=#_LOCATIONNAME:geo:0,0
END:VEVENT
END:VCALENDAR