BEGIN:VCALENDAR
VERSION:2.0
PRODID:-//wp-events-plugin.com//7.2.2.1//EN
BEGIN:VEVENT
UID:161@nestart.by
DTSTART:20240814T113000Z
DTEND:20240814T143000Z
DTSTAMP:20250606T122518Z
URL:https://nestart.by/events2/garden-trip_2024-08-14/
SUMMARY:Садовое путешествие 14 августа 2024г
DESCRIPTION:\n\n	Друзья! Мы по-прежнему наслажда
 емся прекрасной погодой и общением с инт
 ересными людьми!  \nПродолжаем нашу экск
 урсионную программу и приглашаем вас в у
 дивительное путешествие по садам! \nМы с
 нова едем в сады наших соотечественнико
 в.\n\n\n\n	Первый сад\, который мы посетим се
 годня - это прекрасный сад Елены. \nЭто ещ
 е молодой сад\, заложен 4 года назад. В нем
  ярко читается задуманная идея: в соврем
 енном стильном саду широко используются
  элементы природного стиля - травы и злак
 и\, которые служат продолжением лесного 
 ландшафта. Грамотно организован рельеф 
 в виде террас\, на участке есть место при
 тяжения всей семьи. Контейнерное озелен
 ение придает участку современный и элег
 антный вид.\nХозяйка сада Елена - активны
 й и любознательный человек с тонким вкус
 ом.  Елена обучалась на курсе "Садовник" 
 в творческой мастерской "НестАрт"\, что п
 омогает ей поддерживать и ухаживать за с
 воим садом.\n&nbsp\;\n&nbsp\;\n\n\n\n	\n\n\n\n	Второй са
 д - это сад усадьбы Добра Хата. В саду най
 дется место для любителей отдыха в любом
  стиле и с любой степенью активности. Спо
 ртивная площадка и красивый бассейн на т
 еррасе дома не дадут скучать активным лю
 дям. А любители спокойного отдыха могут 
 отдыхать в классической умиротворяющей 
 обстановке или уединенно наслаждаться т
 ишиной в совершенно необычной обстановк
 е. Взрослые декоративные и плодовые раст
 ения аппетитно украшают сад.\n А централь
 ную часть участка  занимает китайская п
 агода и остров\, окруженные  водами боль
 шого пруда. Шикарные прибрежные и водные
  растения\, декоративные рыбы создают не
 обычную атмосферу. \nХозяин усадьбы - Дми
 трий\, архитектор\, покажет сад и поделит
 ся полезной и нужной информацией о созда
 нии прудов.\n\n\n\n	\n\n\n\n	Дата поездки: 14 авгу
 ста 2024г (среда)\nМаршрут поездки: Минский 
 р-н.\, Колодищи-дер.Прилепы\nВремя встречи
 : 11.30\nДо места встречи добираемся  самос
 тоятельно на своих авто. Кому необходима
  подсадка - договариваемся в вайбер-чате 
 с участниками поездки. Подробно о месте 
 встречи обсуждаем в чате.\nПродолжительн
 ость путешествия около 3 часов.\nСтоимост
 ь участия в мероприятии 65 руб.\nТочное ме
 сто встречи оговаривается в вайбер-чате 
 участников поездки.\nКОЛИЧЕСТВО ЧЕЛОВЕК 
 В ГРУППЕ ОГРАНИЧЕНО!\nПри резервировании
  места в группе  вносится аванс 10 руб.\nЕс
 ли вы не сможете присутствовать в этот д
 ень и сообщите нам об этом не позднее\, че
 м за 3 дня до даты проведения поездки\, оп
 лаченный аванс может быть принят во взаи
 мозачет при посещении любого другого ме
 роприятия в нашей школе.\n&nbsp\;\n\n\n\n\n	\n\nДля
  бронирования места нажимайте кнопочку "
 Записаться"!\n Записаться! \n\n
ATTACH;FMTTYPE=image/jpeg:https://nestart.by/wp-content/uploads/2024/08/С
 ад_путеш_Заставка_3.jpg
LOCATION:#_LOCATIONNAME\, #_LOCATIONFULLLINE\, #_LOCATIONCOUNTRY
X-APPLE-STRUCTURED-LOCATION;VALUE=URI;X-ADDRESS=#_LOCATIONFULLLINE\, #_LOCA
 TIONCOUNTRY;X-APPLE-RADIUS=100;X-TITLE=#_LOCATIONNAME:geo:0,0
END:VEVENT
END:VCALENDAR