BEGIN:VCALENDAR
VERSION:2.0
PRODID:-//wp-events-plugin.com//7.2.2.1//EN
BEGIN:VEVENT
UID:162@nestart.by
DTSTART:20240914T090000Z
DTEND:20240914T190000Z
DTSTAMP:20250606T122520Z
URL:https://nestart.by/events2/garden-trip_2024-09-14/
SUMMARY:Садовое путешествие 14 сентября 2024г
DESCRIPTION:\n\n	Друзья! Мы по-прежнему наслажда
 емся прекрасной погодой и общением с инт
 ересными людьми!  \nПродолжаем нашу экск
 урсионную программу и приглашаем вас в у
 дивительное путешествие по садам! \nМы с
 нова едем в сады наших соотечественнико
 в. На этот раз наше путешествие продлитс
 я  целый день.\n\n\n	Первый сад\, который мы 
 посетим сегодня - это сад “У Лісаўшчыне
 ”. \nВ саду преобладают природные цветни
 ки в стиле «новой волны»\, теневые цветни
 ки в композиции с декоративно-лиственны
 ми и хвойными\, редкие реликтовые деревь
 я\, живые изгороди из лиственных и хвойны
 х\, посадки массивами для малоуходности 
 и эстетики.\nХозяйка сада Тамара - ландша
 фтный дизайнер\, наша выпускница. 12 лет н
 азад закончила курс "Ландшафтный дизайн"
  в творческой мастерской "НестАрт" и влюб
 илась в профессию сразу благодаря отлич
 ным преподавателям - Диане Анатольевне и
  Наталии Александровне. А с преподавател
 ем по компьютерной графике Владимиром З
 гурским начала свою деятельность. Сейча
 с Тамара проектирует ландшафтные объект
 ы и занимается их реализацией\, а также р
 азвивает свой питомник декоративных рас
 тений «Дармера»\, который специализируе
 тся на многолетниках для солнечных и тен
 евых цветников\, кустарниках для живых и
 згородей.\n"Мой сад - гэта мая лабараторыя
 \, дзе я вось ужо 10 гадоў праводжу эксперы
 менты\, нешта перапланоўваю\, назіраю. Мо
 й сад не стэрыльны\, асабліва не “прыліз
 аны”\, не патрабуе вялікага дагляду. Ён р
 азвіваецца часам сам па сабе - нешта разр
 астаецца мацней\, нешта “сыходзіць са сц
 эны”\, але ўвогуле ён мяне задавальняе."\n
 &nbsp\;\n&nbsp\;\n\n\n\n	\n\n\n\n	Второй сад\, в который 
 мы не можем не заехать - САД-КОЛЛЕКЦИЯ Ол
 ьги Андриалович. \nВ этом саду собрано ог
 ромное количество красивых и редких рас
 тений: хвойных и лиственных деревьев и к
 устарников\, многолетников. Растения выс
 ажены группами\, гуляя между которыми мо
 жно насладиться видовым разнообразием э
 того сада.\nЗдесь же разместился питомни
 к\, где можно приобрести многие из предст
 авленных в саду растений.\nХозяйка сада О
 льга обучалась на курсе "Ландшафтный диз
 айн" в Творческой мастерской "НестАрт" в 2
 008г\n&nbsp\;\n\n\n\n	\n\n\n\n	Многие слышали и знают 
 Кирилла Кветку - садовода\, который выращ
 ивает растения с самых малых лет. В Брест
 е Кириллом создан уникальный парк цвето
 в. Сейчас парень превращает Воложин в цв
 етущий рай. Мы побываем в цветущем парке 
 однолетних растений и узнаем как удаетс
 я вырастить и сохранить растения в такой
  хорошей форме.\n\n\n\n	\n\n\n\n	И еще один сад\, 
 который мы посетим в этот день - это сад в
  Бурнейках. \nХозяину этой усадьбы Никола
 ю и его семье достался большой заброшенн
 ый хутор с сохранившимся белым усадебны
 м домом.  Совместными усилиями хутор ста
 л перерождаться в место уединения\, спок
 ойствия и силы семьи.\nСад создавался мет
 одом проб и ошибок. Было высажено огромн
 ое количество кустов\, цветов\, сад\, огор
 од. Было сделано много открытий и приобр
 етен колоссальный опыт. Увлечение топиа
 рным искусством и редкими растениями пр
 идают неповторимый колорит этой усадьбе
 .\nСейчас сад еще находится в состоянии б
 лагоустройства. Но уже сейчас\, спустя 10 
 лет\, это место\, где все сделано своими р
 уками\, с любовью и для себя\, стало место
 м силы\, увлечения\, переросшим в безумны
 й азарт и смысл жизни!\nХозяин сада Никол
 ай обучается сейчас на курсе "Ландшафтны
 й дизайн" в Творческой мастерской "НестА
 рт"\n\n\n\n	\n\n\n\n	Еще мы посетим:\nРаков - небо
 льшой агрогородок\, административный це
 нтр Раковского сельсовета. Многие минча
 не облюбовали это место на краю Налибокс
 кой пущи на берегу Ислочи. Но мало кто зн
 ает об исторических вехах\, которые пере
 жил город за свои 560 лет существования! Г
 ород с мануфактурами\, заводами\, гончарн
 ыми мастерскими\, столица контрабандист
 ов\, родина известных белорусских фамили
 й\, а также родина изобретательницы совр
 еменного бюстгальтера\, главы американс
 кой компании Maidenform. И это еще не все о Рак
 ове.\n&nbsp\;\n&nbsp\;\n&nbsp\;\n\n\n\n	\n\n\n\n	Дата поездк
 и: 14 сентября 2024г (суббота)\nМесто встречи
 : г.Минск\, пр.Независимости\, 27а\, 2 подъез
 д (Творческая мастерская "НестАрт")\nВрем
 я встречи: 8.50 \nВремя отправления: 9.00 \nПл
 анируемое время прибытия в Минск: около 2
 1.00 (+/- 30 мин)\nПередвигаемся по маршруту ц
 ентрализовано на микроавтобусе.\n\nСтоим
 ость участия в мероприятии 150 руб.\nВ СТОИ
 МОСТЬ ПОЕЗДКИ ВХОДИТ:\n\nТрансфер по марш
 руту\nПосещение всех запланированных ме
 ст\nЭкскурсия по Ракову\nВечернее чаепит
 ие\n\nВ СТОИМОСТЬ ПОЕЗДКИ НЕ ВХОДИТ:\n\nОбе
 д в кафе. Оплачивается дополнительно (до 
 25 руб полный обед). Меню будет обсуждатьс
 я в чате заблаговременно.\n\n\nКОЛИЧЕСТВО 
 ЧЕЛОВЕК В ГРУППЕ ОГРАНИЧЕНО!\nПри резерв
 ировании места в группе  вносится аванс 
 25 руб.\nЕсли вы не сможете присутствовать
  в этот день и сообщите нам об этом не поз
 днее\, чем за 3 дня до даты проведения пое
 здки\, оплаченный аванс может быть приня
 т во взаимозачет при посещении любого др
 угого мероприятия в нашей школе.\n&nbsp\;\n\n\n
 \n\n	В ДАННОЙ ГРУППЕ МЕСТ НЕТ\n\n\n
ATTACH;FMTTYPE=image/jpeg:https://nestart.by/wp-content/uploads/2024/06/С
 ад_Алеси_01.jpg
LOCATION:#_LOCATIONNAME\, #_LOCATIONFULLLINE\, #_LOCATIONCOUNTRY
X-APPLE-STRUCTURED-LOCATION;VALUE=URI;X-ADDRESS=#_LOCATIONFULLLINE\, #_LOCA
 TIONCOUNTRY;X-APPLE-RADIUS=100;X-TITLE=#_LOCATIONNAME:geo:0,0
END:VEVENT
END:VCALENDAR