BEGIN:VCALENDAR
VERSION:2.0
PRODID:-//wp-events-plugin.com//7.2.2.1//EN
BEGIN:VEVENT
UID:178@nestart.by
DTSTART:20250716T180000Z
DTEND:20250716T200000Z
DTSTAMP:20250709T101450Z
URL:https://nestart.by/events2/garden-trip_2025-07-16/
SUMMARY:Садовое путешествие 16 июля 2025г
DESCRIPTION:\n\n	Друзья! Началась замечательная 
 пора - Лето! \nСады наполнены благоухание
 м цветов и живописными красками лета. \nВ
 озобновляем нашу экскурсионную програм
 му и приглашаем вас в удивительное путеш
 ествие по садам! \nМы снова едем в сады на
 ших соотечественников.\nТемы наших экску
 рсий смогут удовлетворить большой интер
 ес к  эстетике создания сада и ландшафтн
 ому дизайну разных  возрастных групп лю
 дей\, зародить в них любовь  к прекрасном
 у и сделать этот мир лучше!\n\n\n	Знакомств
 о с «Садом художника»\nСад театрального 
 художника\, который создавался 20 лет. Про
 странство  сада выдержано в английском 
 стиле. В нем  представлена коллекция из 1
 20 сортов роз различных групп\, ведущих се
 лекционеров  мира и 170 единиц прекрасных
  роз растущих в ландшафтных композициях.
 \nНа 20 сотках земли\, расположенных на скл
 оне\, имеются  множество других  растени
 й\,  скульптур и украшений. Сад  является
  непрерывно цветущим. Вы можете  посетит
 ь это  замечательное  место и помечтать 
 о своём возможно будущем саде\, наглядно
   посмотреть некоторые приемы ландшафтн
 ого  дизайна. Здесь каждый  совершит  ка
 кие-то маленькие открытия и  возможно  н
 айдет вдохновение для зарождения своей 
 мечты\, окунётся в мир прекрасных аромат
 ов\, игры красок и фактур!\nВы узнаете нев
 ероятные истории из жизни растений и вам
  приоткроется удивительный мир флоры на
 шей  земли. Начинающие  садоводы  смогу
 т узнать об уходе и агротехнике произрас
 тающих в саду растений\, получить руково
 дство к действию о планировании своего с
 ада.\nАлеся Сорокина - хозяйка сада\, по пр
 офессии театральный художник \, создает 
 декорации и костюмы к театральным поста
 новкам. Муж  Алексей —скульптор\, что то
 же повлияло на становление сада. Ландшаф
 тный дизайн и садоводство это хобби хозя
 йки сада\, которое переросло в дополните
 льную профессию.\n"Собственный сад я возд
 елываю порядка 15 лет\, считаю его своим у
 чителем\; с ним я  взрослела и прошла  уд
 ивительный путь проб и ошибок\, который к
 аждого из нас делал лучше." \n&nbsp\;\n\n\n\n	[Best_W
 ordpress_Gallery id="121" gal_title="Садовые_путешествия
 _САД_Алеси_Сорокинойся"]\n\n\n\n	Хозяйка сад
 а поделится своим бесценным опытом по со
 зданию неповторимого «лица» сада:\n- Как 
 сделать свой сад неповторимым и уютным.\n
 - Элементы и средства выразительности.\n- 
 Цвет\, форма\, содержание и взаимодействи
 е с окружением.\n- Как создать небольшой  
 фонтан своими руками.\n\n\n\n	Дата МЕРОПРИЯ
 ТИЯ: 16 июля 2025 (среда)\nМаршрут поездки: Ми
 нск - деревня Ельница - мИНСК\nВремя встре
 чи: 18.00\nТочное место встречи оговаривает
 ся в вайбер-чате участников поездки.\nДо 
 места встречи добираемся  самостоятель
 но на своих авто. Кому необходима подсад
 ка - договариваемся в вайбер-чате с участ
 никами поездки. \nСтоимость участия в ме
 роприятии 45 руб.\nКОЛИЧЕСТВО ЧЕЛОВЕК В ГР
 УППЕ ОГРАНИЧЕНО!\nПри резервировании мес
 та в группе  вносится аванс 10 руб.\nЕсли в
 ы не сможете присутствовать в этот день 
 и сообщите нам об этом не позднее\, чем за
  3 дня до даты проведения поездки\, оплаче
 нный аванс может быть принят во взаимоза
 чет при посещении любого другого меропр
 иятия в нашей школе.\n&nbsp\;\n\n\n\n\n	\n&nbsp\;\nИЗВ
 ИНИТЕ\, В ДАННОЙ ГРУППЕ МЕСТ НЕТ\n\n\n\n
ATTACH;FMTTYPE=image/jpeg:https://nestart.by/wp-content/uploads/2024/06/С
 ад_Алеси_01.jpg
CATEGORIES:Тематические туры
LOCATION:#_LOCATIONNAME\, #_LOCATIONFULLLINE\, #_LOCATIONCOUNTRY
X-APPLE-STRUCTURED-LOCATION;VALUE=URI;X-ADDRESS=#_LOCATIONFULLLINE\, #_LOCA
 TIONCOUNTRY;X-APPLE-RADIUS=100;X-TITLE=#_LOCATIONNAME:geo:0,0
END:VEVENT
END:VCALENDAR