BEGIN:VCALENDAR
VERSION:2.0
PRODID:-//wp-events-plugin.com//7.2.2.1//EN
BEGIN:VEVENT
UID:177@nestart.by
DTSTART:20250726T074500Z
DTEND:20250726T211500Z
DTSTAMP:20250717T082735Z
URL:https://nestart.by/events2/garden-trip_2025-07-26/
SUMMARY:Садовое путешествие 26 июля 2025г
DESCRIPTION:\n\n	Друзья! Мы наслаждаемся прекрас
 ной погодой и общением с интересными люд
 ьми!  \nПродолжаем нашу экскурсионную пр
 ограмму и приглашаем вас в удивительное 
 путешествие по садам! \nМы снова едем в с
 ады наших соотечественников. И не только
  в сады.\n\n\n	Мы едем в  “Хоббит сад”. \nНач
 иналось все с мечты... О прекрасном саде с
  цветущими растениями\, вечнозелеными хв
 ойными\, изумрудным газоном\, водоемом и 
 местами для отдыха\, утопающими в цветах.
 ..\n10 лет назад\, листая журналы по дизайну
  сада и рассматривая красочные фото\, хоз
 яйка сада Татьяна захотела хоть немного 
 похожее создать у себя на участке. Не был
 о ни опыта\, ни времени\, ни денег. Но было 
 огромное желание создать красивый сад\, 
 простой в уходе\, без капризных растений\
 , стабильно декоративный и летом\, и зимо
 й.\nИ вот уже сад Татьяны на страницах жур
 нала с его визитной карточкой - домиком Х
 оббита. А сама Татьяна МАГЕР - автор мног
 очисленных публикаций в журнале "1000 сове
 тов дачнику" и популярный блогер.\nМы уви
 дим два сада Татьяны. В них воплотился ос
 новной девиз автора - сад как хобби.\nВтор
 ой сад - домашний сад.\nЗдесь семья отдыха
 ет от ежедневных хлопот и получает впеча
 тления для дальнейших садовых экспериме
 нтов.\nТатьяна поделится с нами опытом\, к
 оторый она приобрела при создании своих 
 садов:\n\n\nкак сделать сад малоуходным\n\n\n
 научит экономному инвестированию\, как б
 ез значительных вложений создать красив
 ый и эффектный сад\n\n\nподелится методиче
 ским материалом в виде схем цветников и 
 полезной информацией.\n\n\n\n\n\n\n	\n\n\n\n	Следу
 ющий сад\, который мы посетим - это "Сад дл
 я бесед".\nЭтот сад закрыт от суеты и откр
 ыт для общения.\nНас встретит пышная зеле
 нь\, живая изгородь из туй\, акценты из де
 коративных кустарников. Центр притяжени
 я: уютная беседка с зоной барбекю и больш
 им столом. Это не просто декоративный уг
 олок\, а живое пространство для отдыха\, о
 бщения и жизни.\n&nbsp\;\nПо пути мы заглянем 
 в небольшой Сад с выразительными топиар
 ными формами.\n\n\n\n	\n\n\n\n	Город Слоним\, в к
 отором находятся сады\, имеет древнюю ис
 торию. Первые упоминания о Слониме встре
 чаются в 1258 г.\nМы познакомимся с историч
 ескими и современными достопримечатель
 ностями города: ратуша\, аустерия\, канал 
 Огинского\, замковая гора\, синагога\, Свя
 то-Троицкий собор\, драматический театр.\
 nУсадьба Пусловских «Альбертин» - это ар
 хитектурный комплекс\, когда-то состоящи
 й из нескольких дворцов\, большого парка 
 и других хозяйственных построек: жильё д
 ля слуг\, конюшня\, коптильня\, мельница\, 
 маслобойня. Рядом с усадьбой был разбит 
 парк. Мы попытаемся окунуться в историю 
 и увидеть усадьбу в былом величии.\n\n\n\n	\n\
 n\n\n	Вот уже 500 лет Свято-Успенский Жирови
 чский монастырь является оплотом правос
 лавия на белорусских землях. А всё начал
 ось с явления маленькой чудотворной ико
 ны Божией Матери\, которая сегодня входи
 т в сотню самых почитаемых святынь право
 славного мира.\n\nМонастырские служители 
 проведут экскурсию по территории\, позна
 комят с историей и традициями одного из 
 главных центров белорусского Православ
 ия и крупнейшего в стране архитектурног
 о ансамбля XVII—XVIII веков. Экскурсия знако
 мит паломников с историей обретения чуд
 отворного образа Божией Матери «Жирович
 ская»\, прошлым и настоящим обители\, свя
 тынями монастыря.\n\n\n&nbsp\;\n\n\n	\n\n\n\n	Дата по
 ездки: 26 июля 2025г (суббота)\nМесто встречи
 : г.Минск\, пр.Независимости\, 27а\, 2 подъез
 д (Творческая мастерская "НестАрт")\nВрем
 я встречи: 7.45 \nВремя отправления: 8.00 \nПл
 анируемое время прибытия в Минск: около 2
 1.00 (+/- 30 мин)\nПередвигаемся по маршруту ц
 ентрализовано на микроавтобусе. Последо
 вательность посещения объектов может бы
 ть изменена.\n&nbsp\;\n\nСтоимость участия в м
 ероприятии 165 руб.\nВ СТОИМОСТЬ ПОЕЗДКИ В
 ХОДИТ:\n\nТранспортное обслуживание по ма
 ршруту\nПосещение садов\nЭкскурсия по Сл
 ониму в сопровождении экскурсовода\nПос
 ещение и экскурсия в Жировичском монаст
 ыре\nЧаепитие в саду\n\nВ СТОИМОСТЬ ПОЕЗДК
 И НЕ ВХОДИТ:\n\nОбед в кафе. Оплачивается д
 ополнительно (около 15 руб полный обед). М
 еню будет обсуждаться в чате заблаговре
 менно.\n\n\nКОЛИЧЕСТВО ЧЕЛОВЕК В ГРУППЕ ОГ
 РАНИЧЕНО!\nПри резервировании места в гр
 уппе  вносится аванс 25 руб.\nЕсли вы не см
 ожете присутствовать в этот день и сообщ
 ите нам об этом не позднее\, чем за 3 дня д
 о даты проведения поездки\, оплаченный а
 ванс может быть принят во взаимозачет пр
 и посещении любого другого мероприятия 
 в нашей школе.\n&nbsp\;\n\n\n\n\n	ИЗВИНИТЕ\, В ДАН
 НОЙ ГРУППЕ  НЕТ МЕСТ \n\n
ATTACH;FMTTYPE=image/jpeg:https://nestart.by/wp-content/uploads/2025/07/С
 ад_Хоббит_2.jpg
LOCATION:#_LOCATIONNAME\, #_LOCATIONFULLLINE\, #_LOCATIONCOUNTRY
X-APPLE-STRUCTURED-LOCATION;VALUE=URI;X-ADDRESS=#_LOCATIONFULLLINE\, #_LOCA
 TIONCOUNTRY;X-APPLE-RADIUS=100;X-TITLE=#_LOCATIONNAME:geo:0,0
END:VEVENT
END:VCALENDAR