BEGIN:VCALENDAR
VERSION:2.0
PRODID:-//wp-events-plugin.com//7.2.2.1//EN
BEGIN:VEVENT
UID:180@nestart.by
DTSTART:20250807T180000Z
DTEND:20250807T200000Z
DTSTAMP:20250804T071951Z
URL:https://nestart.by/events2/garden-trip_2025-08-07/
SUMMARY:Садовое путешествие 7 августа 2025г
DESCRIPTION:\n\n	Друзья! Мы наслаждаемся прекрас
 ной погодой и общением с интересными люд
 ьми!  \nПродолжаем нашу экскурсионную пр
 ограмму и приглашаем вас в удивительное 
 путешествие по садам! \nМы снова едем в с
 ады наших соотечественников. \n\n\n	Мы едем
  в  удивительный топиарный сад. \nЭтому с
 аду более 20 лет. Создатель сада Андрей на
  вопрос "Это ваше хобби или профессия?" за
 думчиво отвечает "Это состояние души. Вр
 емя выбрало меня. Я никогда не думал\, что
  буду этим заниматься".\nМы увидим прекра
 сный взрослый сад с огромными растениям
 и\, сформированными в виде правильных и ф
 антазийных форм: туи\, казацкий можжевел
 ьник\, бересклет форчуна\, кипарисовик. О
 казавшись в этом саду словно переносишь
 ся в волшебное пространство\, сказку.\n\n\n\
 n	Дата поездки: 7 августа 2025г (четверг)\nМе
 сто встречи: г.Минск\, Острошицкий городо
 к  (15 км от МКАД)\nТочное место встречи ог
 оваривается в вайбер-чате участников по
 ездки.\nВремя встречи: 18.00\nДо места встре
 чи добираемся  самостоятельно на своих 
 авто. Кому необходима подсадка - договар
 иваемся в вайбер-чате с участниками поез
 дки. \n&nbsp\;\n\nСтоимость участия в меропри
 ятии 45 руб.\nКОЛИЧЕСТВО ЧЕЛОВЕК В ГРУППЕ 
 ОГРАНИЧЕНО!\nПри резервировании места в 
 группе  вносится аванс 10 руб.\nЕсли вы не 
 сможете присутствовать в этот день и соо
 бщите нам об этом не позднее\, чем за 3 дня
  до даты проведения поездки\, оплаченный 
 аванс может быть принят во взаимозачет п
 ри посещении любого другого мероприятия
  в нашей школе.\n\nПри неблагоприятных пог
 одных условиях поездка может быть перен
 есена на 13 августа 2025г\n\n\n\n	ИЗВИНИТЕ\, В Д
 АННОЙ ГРУППЕ ОСТАЛОСЬ  1 МЕСТО \n ОСТАВЬТЕ
  ЗАЯВКУ НА ЭКСКУСИЮ\, МЫ С ВАМИ СВЯЖЕМСЯ И
  УТОЧНИМ НАЛИЧИЕ МЕСТ!\n\n\nДля бронирован
 ия места нажимайте кнопочку "Записаться"
 !\n Записаться! \n\n\n
ATTACH;FMTTYPE=image/jpeg:https://nestart.by/wp-content/uploads/2025/07/С
 ад_топиариев.jpg
LOCATION:#_LOCATIONNAME\, #_LOCATIONFULLLINE\, #_LOCATIONCOUNTRY
X-APPLE-STRUCTURED-LOCATION;VALUE=URI;X-ADDRESS=#_LOCATIONFULLLINE\, #_LOCA
 TIONCOUNTRY;X-APPLE-RADIUS=100;X-TITLE=#_LOCATIONNAME:geo:0,0
END:VEVENT
END:VCALENDAR