BEGIN:VCALENDAR
VERSION:2.0
PRODID:-//wp-events-plugin.com//7.2.2.1//EN
BEGIN:VEVENT
UID:181@nestart.by
DTSTART:20250823T090000Z
DTEND:20250823T180000Z
DTSTAMP:20250819T104739Z
URL:https://nestart.by/events2/garden-trip_2025-08-23/
SUMMARY:Садовое путешествие 23 августа 2025г
DESCRIPTION:\n\n	Друзья! Мы наслаждаемся прекрас
 ной погодой и общением с интересными люд
 ьми!  \nПродолжаем нашу экскурсионную пр
 ограмму и приглашаем вас в удивительное 
 путешествие по садам! \nМы снова едем в с
 ады наших соотечественников. И не только
  в сады. В этой поездке нас ожидает много 
 интересной и полезной информации. \n\n\n	Мы
  едем в  питомник ЦВЕТОЧНАЯ УЛИЦА. \nБоле
 е 20 лет работает этот питомник. В нем на 3 
 гектарах выращивают цветочные многолет
 ники\, кустарники\, хвойные и плодовые ра
 стения\, а также водные и прибрежные раст
 ения.  В коллекции цветочных растений бо
 лее 200 видов и сортов.\nПрогуливаясь по пи
 томнику с нашим специалистом Дианой Ана
 тольевной\, вы познакомитесь с новым асс
 ортиментом накануне посадочного сезона.
 \n&nbsp\;\n\n\n\n	\n\n\n\n	Затем мы едем в гости в СА
 Д ЦВЕТОВ.\nСад молодой семьи не только де
 коративен\, но очень функционален. Все по
 желания хозяйки Ольги качественно на вы
 соком технологическом уровне проектиро
 вались и реализовывались супругом.\nВ эт
 ом саду нашли место не только детская пл
 ощадка\, место для отдыха\, декоративные 
 посадки петуний и гортензий\, выращивани
 ем которых Ольга занимается уже много ле
 т. В этом саду также разместилась больша
 я хозяйственная и техническая зоны для р
 аботы с растениями.\nХозяйка сада Ольга - 
 выпускница творческой мастерской "НестА
 рт"\nЗдесь мы узнаем про ПЕТУНИИ и ГОРТЕН
 ЗИИ:\n\n\nКак ПРАВИЛЬНО выбирать вид и сорт
  петунии (и других однолетних цветов) сог
 ласно условиям.\n\n\nПравила и тонкости ух
 ода за петунией\, чтобы она имела декорат
 ивность и была здоровой весь сезон.\n\n\nКа
 к вырастить пышное ампельное растение.\n\
 n\nОльга проведет мастер класс по посадке
  петунии\, где каждый сможет посадить это
  растение. \n\n\nАгротехника выращивания г
 ортензий: правила посадки\, тонкости обр
 езки\, подкормки\, размножения и т.д.\n\n\nКа
 к получить соцветия 30 и более см\n\n\nВ сад
 у имеется мини питомник и представлено б
 олее 60 сортов гортензий метельчатых. \n\n\
 n\n	\n\n\n\n	В этот день мы посетим еще один уд
 ивительный сад - САД НА ГОРНОЙ УЛИЦЕ.\nМы 
 уже неоднократно бывали в этом саду\, но 
 все равно хочется вернуться сюда еще раз
 .\n Красивый современный сад\, где хозяйка
 \, она же дизайнер\, профессионально пора
 ботала с МАФ\, которые поддерживают архи
 тектуру дома\, зонируют участок. Удачно п
 одобранный ассортимент растений наполн
 яет сад пейзажными красками. \nСветлана -
  хозяйка сада\, ландшафтный дизайнер\, вы
 пускница Творческой мастерской "НестАрт
 ".\n\n\n\n	\n\n\n\n	Дата поездки: 23 августа 2025г (с
 уббота)\nМесто встречи: г.Минск\, пр.Незав
 исимости\, 27а\, 2 подъезд (Творческая маст
 ерская "НестАрт")\nВремя встречи: 8.45 \nВре
 мя отправления: 9.00 \nПланируемое время п
 рибытия в Минск: около 18.00 (+/- 30 мин)\nМаршр
 ут путешествия: Минск-Домошаны-Борисов-д
 .Прилесье (Минский р-н) - Минск\nВ целях оп
 тимизации транспортных расходов передв
 игаемся по маршруту на личных авто. Груп
 пируемся по 4 чел в машину (1 водитель + 3 п
 ассажира). Пассажиры возмещают водителю 
 транспортные расходы в размере 15руб с че
 ловека.\n&nbsp\;\n\nСтоимость участия в мероп
 риятии 80 руб.\nВ СТОИМОСТЬ ПОЕЗДКИ НЕ ВХО
 ДИТ ОБЕД В КАФЕ В Г.БОРИСОВ. ОПЛАЧИВАЕТСЯ
  ДОПОЛНИТЕЛЬНО (ОКОЛО 15 РУБ ПОЛНЫЙ ОБЕД).
  \n\nКОЛИЧЕСТВО ЧЕЛОВЕК В ГРУППЕ ОГРАНИЧЕ
 НО!\nПри резервировании места в группе  в
 носится аванс 10 руб.\nЕсли вы не сможете п
 рисутствовать в этот день и сообщите нам
  об этом не позднее\, чем за 3 дня до даты п
 роведения поездки\, оплаченный аванс мож
 ет быть принят во взаимозачет при посеще
 нии любого другого мероприятия в нашей ш
 коле.\n&nbsp\;\n\n\n\n\n	\nДля бронирования места 
 нажимайте кнопочку "Записаться"!\n Записа
 ться! \n\n
ATTACH;FMTTYPE=image/jpeg:https://nestart.by/wp-content/uploads/2023/07/С
 ад_Титовец_Светлана_03.jpg
LOCATION:#_LOCATIONNAME\, #_LOCATIONFULLLINE\, #_LOCATIONCOUNTRY
X-APPLE-STRUCTURED-LOCATION;VALUE=URI;X-ADDRESS=#_LOCATIONFULLLINE\, #_LOCA
 TIONCOUNTRY;X-APPLE-RADIUS=100;X-TITLE=#_LOCATIONNAME:geo:0,0
END:VEVENT
END:VCALENDAR