BEGIN:VCALENDAR
VERSION:2.0
PRODID:-//wp-events-plugin.com//7.2.2.1//EN
BEGIN:VEVENT
UID:182@nestart.by
DTSTART:20250923T160000Z
DTEND:20250923T184500Z
DTSTAMP:20250917T085005Z
URL:https://nestart.by/events2/garden-trip_2025-09-23/
SUMMARY:Садовое путешествие 23 сентября 2025г
DESCRIPTION:Осенние сады все еще наполнены ярк
 ими красками на фоне воздушных  осенних 
 трав и злаков. Мы сможем насладиться их к
 расотой.
ATTACH;FMTTYPE=image/jpeg:https://nestart.by/wp-content/uploads/2023/07/С
 ад_Титовец_Светлана_03.jpg
CATEGORIES:ландшафтная
LOCATION:#_LOCATIONNAME\, #_LOCATIONFULLLINE\, #_LOCATIONCOUNTRY
X-APPLE-STRUCTURED-LOCATION;VALUE=URI;X-ADDRESS=#_LOCATIONFULLLINE\, #_LOCA
 TIONCOUNTRY;X-APPLE-RADIUS=100;X-TITLE=#_LOCATIONNAME:geo:0,0
END:VEVENT
END:VCALENDAR