BEGIN:VCALENDAR
VERSION:2.0
PRODID:-//wp-events-plugin.com//7.2.2.1//EN
BEGIN:VEVENT
UID:110@nestart.by
DTSTART;VALUE=DATE:20250805
DTEND;VALUE=DATE:20250819
DTSTAMP:20250805T124513Z
URL:https://nestart.by/events2/gardener-test/
SUMMARY:Тест-драйв по курсу "Садовник-дизайн
 ер"
DESCRIPTION:\n\n	Если УХОД ЗА САДОМ - это то\, что 
 Вам интересно\,\nЕсли Вы хотели бы освоит
 ь ПРОФЕССИЮ САДОВНИКА\,\nЕсли КУРС САДОВН
 ИК - это то\, что Вам сейчас необходимо\,\nп
 риходите на наш ТЕСТ-ДРАЙВ по курсу САДО
 ВНИК-ДИЗАЙНЕР!\nБолее 3-х часов ЦЕННОЙ И П
 ОЛЕЗНОЙ информации от ЛУЧШИХ СПЕЦИАЛИСТ
 ОВ!!! \n\n\n\n	 Записаться на ТЕСТ-ДРАЙВ \n\n\n\n	
 Мы выбрали для Вас 9 фрагментов с разных 
 занятий курса. \nВы сможете  познакомить
 ся с некоторыми преподавателями курса\, 
 увидеть как проходят занятия и\, конечно 
 же\, почерпнуть много новой и полезной ин
 формации.\n\nФрагмент 1. ТЕМА ЗАНЯТИЯ: Знак
 омство с морфологией\, физиологией и био
 химическими процессами\, происходящими 
 в растениях. \n\nПреподаватель ЮЛИЯ КОНДР
 АТЕНОК.\nПродолжительность фрагмента 18 м
 ин\n\n\nПобег\nСтроение почки\nВиды почек\nТ
 ипы ветвления побегов\n\n&nbsp\;\n\nФрагмент 2.
  ТЕМА ЗАНЯТИЯ: Ассортимент растений для 
 ландшафтного дизайна: лиственные деревь
 я и кустарники\, хвойные\, многолетние др
 евесные лианы.\nПреподаватель СЕРГЕЙ ПРА
 ХОДСКИЙ.\nПродолжительность фрагмента 26 
 мин\n\n\nТипы древесных растений.\nВидовое 
 разнообразие.\nПредставители семейства 
 голосеменных: гинкго двулопастный\, ель\n
 \n&nbsp\;\n\nФрагмент 3. ТЕМА ЗАНЯТИЯ: Ассортим
 ент растений для ландшафтного дизайна: л
 иственные деревья и кустарники\, хвойные
 \, многолетние древесные лианы.\nПреподав
 атель СЕРГЕЙ ПРАХОДСКИЙ.\nПродолжительн
 ость фрагмента 23 мин\n\n\nПредставители се
 мейства покрытосеменных: магнолия\, клен
 \n\n&nbsp\;\n\nФрагмент 4. ТЕМА ЗАНЯТИЯ: Классиф
 икация травянистых растений по декорати
 вным признакам\, Использование в ландшаф
 тном дизайне.\nПреподаватель ДИАНА БОГОД
 УХОВА.\nПродолжительность фрагмента 29 ми
 н\nКлассификация травянистых растений п
 о:\n\nжизненным формам\nдекоративным приз
 накам\nвысоте\n\n&nbsp\;\n\nФрагмент 5. ТЕМА ЗАН
 ЯТИЯ: Ассортимент травянистых растений 
 для ландшафтного дизайна.\nПреподавател
 ь ДИАНА БОГОДУХОВА.\nПродолжительность ф
 рагмента 18 мин\n\n\nРедкие растения сада\n\n
 &nbsp\;\n&nbsp\;\n&nbsp\;\n&nbsp\;\n\nФрагмент 6. ТЕМА ЗАН
 ЯТИЯ: Декоративные злаки и травы. Виды\, д
 екоративность\, особенности произрастан
 ия.\nПреподаватель ИРИНА ИОДО.\nПродолжит
 ельность фрагмента 8 мин\n\n\nСистематика\n
 Основные виды и сорта декоративных трав\
 n\n&nbsp\;\n\nФрагмент 7. ТЕМА ЗАНЯТИЯ: Способы 
 размножения растений. Посадка и пересад
 ка травянистых и древесных растений\, ух
 од за ними.\nПреподаватель СЕРГЕЙ ПРАХОД
 СКИЙ.\nПродолжительность фрагмента 26 мин
 \n\n\nСпособы размножения древесных расте
 ний\nРазмножение семенам\nСбор плодов и с
 емян\nСпособы предпосевной обработки се
 мян\n\n\nФрагмент 8. ТЕМА ЗАНЯТИЯ: Виды газо
 нов. Состав трав. Устройство газонов. Ухо
 д за газоном\, защита от вредителей\, ремо
 нт газона.\nПреподаватель СЕРГЕЙ ПРАХОДС
 КИЙ.\nПродолжительность фрагмента 24 мин\n
 \n\nПравила стрижки газона\nРекомендуемые
  периодичность и высота стрижки разных в
 идов газона\n\n\nФрагмент 9. ТЕМА ЗАНЯТИЯ: Э
 лементы питания растений.\n\nПреподавате
 ль ЮЛИЯ КОНДРАТЕНОК.\nПродолжительность 
 фрагмента 15 мин\n\n\nМакро- и микроэлемент
 ы питания растений.\nСимптомы дефицита а
 зота и фосфора.\n\n&nbsp\;\n&nbsp\;\n\n&nbsp\;\n\n[siteorigin_
 widget class="SiteOrigin_Widget_Button_Widget"][/siteorigin_widget][siteor
 igin_widget class="SiteOrigin_Widget_Button_Widget"][/siteorigin_widget][s
 iteorigin_widget class="SiteOrigin_Widget_Button_Widget"][/siteorigin_widg
 et][siteorigin_widget class="SiteOrigin_Widget_Button_Widget"][/siteorigin
 _widget]\n\n	ТЕСТ-ДРАЙВ проводится с 5 по 18 авг
 уста 2025 года\nОплата за участие в тест-др
 айве: без оплаты\nВы можете записаться на
  курс "САДОВНИК" или "САДОВНИК-ДИЗАЙНЕР" 
 со скидкой  РАННЕЕ БРОНИРОВАНИЕ до 155 ру
 б\n(в зависимости от выбранной программы 
 и формы обучения) \nСкидки действуют при 
 оплате аванса: до 18 августа 2025 года.\nЧтоб
 ы подать заявку на участие в тест-драйве\
 , жмите кнопочку "Записаться"!\n&nbsp\;\n Запи
 саться на тест-драйв! \n\n
ATTACH;FMTTYPE=image/jpeg:https://nestart.by/wp-content/uploads/2021/10/te
 st-drive-gardener-1.png
CATEGORIES:вебинар в
 записи,ландшафтная,новости,онлайн
LOCATION:#_LOCATIONNAME\, #_LOCATIONFULLLINE\, #_LOCATIONCOUNTRY
X-APPLE-STRUCTURED-LOCATION;VALUE=URI;X-ADDRESS=#_LOCATIONFULLLINE\, #_LOCA
 TIONCOUNTRY;X-APPLE-RADIUS=100;X-TITLE=#_LOCATIONNAME:geo:0,0
END:VEVENT
END:VCALENDAR