BEGIN:VCALENDAR
VERSION:2.0
PRODID:-//wp-events-plugin.com//7.2.2.1//EN
BEGIN:VEVENT
UID:189@nestart.by
DTSTART:20241231T110000Z
DTEND:20241231T140000Z
DTSTAMP:20251120T123810Z
URL:https://nestart.by/events2/korporativ-mk-comp-cashpo/
SUMMARY:Рождественская композиция со свечам
 и в кашпо. Корпоративный МК.
DESCRIPTION:Потрясающая композиция со свечами
 \, сделанная своими руками добавит вашем
 у дому праздничного настроения!
ATTACH;FMTTYPE=image/jpeg:https://nestart.by/wp-content/uploads/2019/11/р
 ождественская-композиция-2.jpg
CATEGORIES:мастер-класс,флористика
LOCATION:#_LOCATIONNAME\, #_LOCATIONFULLLINE\, #_LOCATIONCOUNTRY
X-APPLE-STRUCTURED-LOCATION;VALUE=URI;X-ADDRESS=#_LOCATIONFULLLINE\, #_LOCA
 TIONCOUNTRY;X-APPLE-RADIUS=100;X-TITLE=#_LOCATIONNAME:geo:0,0
END:VEVENT
END:VCALENDAR