BEGIN:VCALENDAR
VERSION:2.0
PRODID:-//wp-events-plugin.com//7.2.2.1//EN
BEGIN:VEVENT
UID:187@nestart.by
DTSTART:20241231T110000Z
DTEND:20241231T143000Z
DTSTAMP:20251120T114829Z
URL:https://nestart.by/events2/korporativ-mk-cristmass-wreath-rotang/
SUMMARY:Рождественский венок из ротанга. Кор
 поративный МК.
DESCRIPTION:Создайте новогоднее настроение в 
 своем доме!
ATTACH;FMTTYPE=image/jpeg:https://nestart.by/wp-content/uploads/2023/11/Р
 ожд_венок_роддети.jpg
CATEGORIES:мастер-класс,флористика
LOCATION:#_LOCATIONNAME\, #_LOCATIONFULLLINE\, #_LOCATIONCOUNTRY
X-APPLE-STRUCTURED-LOCATION;VALUE=URI;X-ADDRESS=#_LOCATIONFULLLINE\, #_LOCA
 TIONCOUNTRY;X-APPLE-RADIUS=100;X-TITLE=#_LOCATIONNAME:geo:0,0
END:VEVENT
END:VCALENDAR