BEGIN:VCALENDAR
VERSION:2.0
PRODID:-//wp-events-plugin.com//7.2.2.1//EN
BEGIN:VEVENT
UID:99@nestart.by
DTSTART:20220405T190000Z
DTEND:20220405T203000Z
DTSTAMP:20250606T121954Z
URL:https://nestart.by/events2/land-sketch-veb/
SUMMARY:Вебинар по курсу "Ландшафтный скетчи
 нг"
DESCRIPTION:\n\n	&nbsp\;\n&nbsp\;\n Записаться на вебина
 р\n\n\n\n	ЛАНДШАФТНЫЙ СКЕТЧИНГ\nНа вебинаре 
 вы :\n\n1. Познакомитесь с преподавателем к
 урса "Ландшафтный скетчинг".\n\n2. Она расс
 кажет для кого подходит курс\, какие нужн
 ы навыки.\n\n3. Как можно применить получен
 ные знания в работе дизайнера\, чтобы ста
 ть более восстребованным специалистом.\n
 \n4. Покажет результат обучения\, как и как
 ими инструментами будем работать на кур
 се.\n\n&nbsp\;\n\n\n	[Best_Wordpress_Gallery id="32" gal_title="Скет
 чинг"]\n\n\n\n	Если хотите стать лучшими все
 го за 3 недели   - записывайтесь на беспла
 тный вебинар!\nНа вебинаре вы пообщаетес
 ь с преподавателем\, получите ВСЮ информ
 ацию о курсе и сможете задать ей свои воп
 росы.\n\n&nbsp\;\n[siteorigin_widget class="SiteOrigin_Widget_Button_W
 idget"][/siteorigin_widget]\n\n	Участникам вебинара бу
 дет предоставлена СКИДКА  50 руб на обуче
 ние на курсе!\nПодробнее об условиях полу
 чения скидки расскажем НА ВЕБИНАРЕ!\n[siteor
 igin_widget class="SiteOrigin_Widget_Image_Widget"][/siteorigin_widget]\n\
 n	ПРЕПОДАВАТЕЛЬ ТАТЬЯНА БАТАЛОВА (г. МОСК
 ВА) СНОВА В МИНСКЕ!\n Баталова Татьяна - пр
 актикующий ландшафтный архитектор\, пре
 подаватель. Опыт работы более 10 лет.\nОко
 нчила Уральскую Архитектурно-Художеств
 енную Академию\, кафедра ландшафтной арх
 итектуры и дизайна.\nРаботала в ландшафт
 ной мастерской Сергеевых г. Екатеринбур
 г.\nПреподаватель дисциплин по цветоведе
 нию и ландшафтному рисунку в Творческой 
 мастерской "НестАрт"  с 2013 года.\nПрепода
 ватель рисунка и скетчинга в Высшей школ
 е ландшафтной архитектуры и дизайна СОГ
 ЭЦУ при Московском архитектурном инстит
 уте по настощее время.\n\n\n	Дата и время:\n5 
 апреля 2022г в 19.00 (по Минскому времени)\nВх
 од свободный по предварительной регистр
 ации\n\n\n\n\n\n	 Записаться на вебинар \n\n
ATTACH;FMTTYPE=image/jpeg:https://nestart.by/wp-content/uploads/2021/05/П
 РОДВИЖ-ЧЕМЕРД.png
CATEGORIES:ландшафтная,мастер-класс,новости,
 еминар
LOCATION:#_LOCATIONNAME\, #_LOCATIONFULLLINE\, #_LOCATIONCOUNTRY
X-APPLE-STRUCTURED-LOCATION;VALUE=URI;X-ADDRESS=#_LOCATIONFULLLINE\, #_LOCA
 TIONCOUNTRY;X-APPLE-RADIUS=100;X-TITLE=#_LOCATIONNAME:geo:0,0
END:VEVENT
END:VCALENDAR