BEGIN:VCALENDAR
VERSION:2.0
PRODID:-//wp-events-plugin.com//7.2.2.1//EN
BEGIN:VEVENT
UID:111@nestart.by
DTSTART:20211208T190000Z
DTEND:20211209T220000Z
DTSTAMP:20250606T121929Z
URL:https://nestart.by/events2/mk_promotion_landscaper/
SUMMARY:Вебинар «Продвижение ландшафтного д
 изайнера»
DESCRIPTION:Важно понимать: уход\, посадка и ра
 змножение декоративных трав зависят от 
 условий их произрастания в природе! Найд
 ем злаку правильное место!
ATTACH;FMTTYPE=image/jpeg:https://nestart.by/wp-content/uploads/2021/11/п
 родвижение-ЛД-2.jpg
CATEGORIES:вебинар в
 записи,ландшафтная,онлайн,семинар
LOCATION:#_LOCATIONNAME\, #_LOCATIONFULLLINE\, #_LOCATIONCOUNTRY
X-APPLE-STRUCTURED-LOCATION;VALUE=URI;X-ADDRESS=#_LOCATIONFULLLINE\, #_LOCA
 TIONCOUNTRY;X-APPLE-RADIUS=100;X-TITLE=#_LOCATIONNAME:geo:0,0
END:VEVENT
END:VCALENDAR