BEGIN:VCALENDAR
VERSION:2.0
PRODID:-//wp-events-plugin.com//7.2.2.1//EN
BEGIN:VEVENT
UID:27@nestart.by
DTSTART:20191129T180000Z
DTEND:20191129T220000Z
DTSTAMP:20250606T114806Z
URL:https://nestart.by/events2/rozhdestvenskaya-komositsiya/
SUMMARY:Рождественская композиция
DESCRIPTION:Потрясающая композиция со свечами
 \, сделанная своими руками добавит вашем
 у дому праздничного настроения!
ATTACH;FMTTYPE=image/jpeg:https://nestart.by/wp-content/uploads/2019/11/р
 ождественская-композиция.jpg
CATEGORIES:мастер-класс,флористика
LOCATION:#_LOCATIONNAME\, #_LOCATIONFULLLINE\, #_LOCATIONCOUNTRY
X-APPLE-STRUCTURED-LOCATION;VALUE=URI;X-ADDRESS=#_LOCATIONFULLLINE\, #_LOCA
 TIONCOUNTRY;X-APPLE-RADIUS=100;X-TITLE=#_LOCATIONNAME:geo:0,0
END:VEVENT
END:VCALENDAR