BEGIN:VCALENDAR
VERSION:2.0
PRODID:-//wp-events-plugin.com//7.2.2.1//EN
BEGIN:VEVENT
UID:60@nestart.by
DTSTART:20200525T093000Z
DTEND:20200525T123000Z
DTSTAMP:20250606T115535Z
URL:https://nestart.by/events2/yagody_v_sadu/
SUMMARY:Ягоды в саду.
DESCRIPTION:Ягодные культуры вашего сада!
ATTACH;FMTTYPE=image/jpeg:https://nestart.by/wp-content/uploads/2020/05/Б
 аннер1-1.png
CATEGORIES:вебинар,вебинар в
 записи,ландшафтная,мастер-класс,онлайн,
 еминар
LOCATION:#_LOCATIONNAME\, #_LOCATIONFULLLINE\, #_LOCATIONCOUNTRY
X-APPLE-STRUCTURED-LOCATION;VALUE=URI;X-ADDRESS=#_LOCATIONFULLLINE\, #_LOCA
 TIONCOUNTRY;X-APPLE-RADIUS=100;X-TITLE=#_LOCATIONNAME:geo:0,0
END:VEVENT
END:VCALENDAR